BEGIN:VCALENDAR
VERSION:2.0
PRODID:-//IBLP Australia - ECPv6.15.17.1//NONSGML v1.0//EN
CALSCALE:GREGORIAN
METHOD:PUBLISH
X-ORIGINAL-URL:https://iblp.org.au
X-WR-CALDESC:Events for IBLP Australia
REFRESH-INTERVAL;VALUE=DURATION:PT1H
X-Robots-Tag:noindex
X-PUBLISHED-TTL:PT1H
BEGIN:VTIMEZONE
TZID:Australia/Melbourne
BEGIN:STANDARD
TZOFFSETFROM:+1100
TZOFFSETTO:+1000
TZNAME:AEST
DTSTART:20250405T160000
END:STANDARD
BEGIN:DAYLIGHT
TZOFFSETFROM:+1000
TZOFFSETTO:+1100
TZNAME:AEDT
DTSTART:20251004T160000
END:DAYLIGHT
BEGIN:STANDARD
TZOFFSETFROM:+1100
TZOFFSETTO:+1000
TZNAME:AEST
DTSTART:20260404T160000
END:STANDARD
BEGIN:DAYLIGHT
TZOFFSETFROM:+1000
TZOFFSETTO:+1100
TZNAME:AEDT
DTSTART:20261003T160000
END:DAYLIGHT
BEGIN:STANDARD
TZOFFSETFROM:+1100
TZOFFSETTO:+1000
TZNAME:AEST
DTSTART:20270403T160000
END:STANDARD
BEGIN:DAYLIGHT
TZOFFSETFROM:+1000
TZOFFSETTO:+1100
TZNAME:AEDT
DTSTART:20271002T160000
END:DAYLIGHT
END:VTIMEZONE
BEGIN:VEVENT
DTSTART;TZID=Australia/Melbourne:20260605T190000
DTEND;TZID=Australia/Melbourne:20260608T170000
DTSTAMP:20260421T061718
CREATED:20260205T235125Z
LAST-MODIFIED:20260326T234222Z
UID:10000137-1780686000-1780938000@iblp.org.au
SUMMARY:Long Weekend Seminars
DESCRIPTION:Over 2.7 million people around the world have been blessed by the biblical principles shared in the Basic\, and Advanced Seminars. The insights presented in these seminars reveal root causes to surface issues that plague our churches\, culture\, and families today. \nOn 5th to 8th of June\, come to Haig Road’s beautiful setting in Mount Evelyn\, VIC and understand how these basic principles and their applications in everyday life help lay the foundations for overcoming deep-seated hurts\, breaking financial bondage\, resolving relational conflicts\, and gaining wisdom in all of life’s experiences. Catered meals are available\, making this an ideal weekend retreat for the entire family. \n\nSeminars Available include \n\nAdvanced\nFinancial Freedom\nChildren’s Institute\n\nFor more information about our seminars and the topics covered\, please click on the Seminars name above. You’ll find all you need to know about each seminar in greater depth!\n\n\nPricing \nFirst Time attendee\nAdvanced\, or Financial Freedom – $60 inc. Textbook & Workbook \nChildren’s Institute $50 \nFirst Time additional family member\nAdvanced\, or Financial Freedom – $40 inc. Workbook \nAnger Resolution – $30 inc. Workbook \n\n\n\n\nSchedule \nAdvanced seminar\, Financial Freedom Seminar\, and the Children’s Institute run: \nFriday night from 7:00-10:00pm\, Saturday from 8:30am to 9:00pm\, Sunday from 2:00pm to 9:00pm and Monday 8:30 am to 5:00pm. \nMeal bookings close 1st of June. \n\n\n  \nSeminar Alumni can attend free or purchase a new workbook for $10 \nREGISTER HERE           MEALS HERE \nFor more information about our seminars and the topics covered\, please click on the Seminars tab above.
URL:https://iblp.org.au/event/long-weekend-seminars-2/
LOCATION:4 Haig Rd Mount Evelyn\, 4 Haig Rd\, Mount Everlyn\, Victoria\, 3796\, Australia
ATTACH;FMTTYPE=image/png:https://iblp.org.au/wp-content/uploads/2026/02/June-Long-Weekend-Seminar-Logo.png
ORGANIZER;CN="IBLP":MAILTO:info@iblp.org,au
END:VEVENT
END:VCALENDAR