BEGIN:VCALENDAR
VERSION:2.0
PRODID:-//IBLP Australia - ECPv6.15.20//NONSGML v1.0//EN
CALSCALE:GREGORIAN
METHOD:PUBLISH
X-WR-CALNAME:IBLP Australia
X-ORIGINAL-URL:https://iblp.org.au
X-WR-CALDESC:Events for IBLP Australia
REFRESH-INTERVAL;VALUE=DURATION:PT1H
X-Robots-Tag:noindex
X-PUBLISHED-TTL:PT1H
BEGIN:VTIMEZONE
TZID:Australia/Melbourne
BEGIN:STANDARD
TZOFFSETFROM:+1100
TZOFFSETTO:+1000
TZNAME:AEST
DTSTART:20250405T160000
END:STANDARD
BEGIN:DAYLIGHT
TZOFFSETFROM:+1000
TZOFFSETTO:+1100
TZNAME:AEDT
DTSTART:20251004T160000
END:DAYLIGHT
BEGIN:STANDARD
TZOFFSETFROM:+1100
TZOFFSETTO:+1000
TZNAME:AEST
DTSTART:20260404T160000
END:STANDARD
BEGIN:DAYLIGHT
TZOFFSETFROM:+1000
TZOFFSETTO:+1100
TZNAME:AEDT
DTSTART:20261003T160000
END:DAYLIGHT
BEGIN:STANDARD
TZOFFSETFROM:+1100
TZOFFSETTO:+1000
TZNAME:AEST
DTSTART:20270403T160000
END:STANDARD
BEGIN:DAYLIGHT
TZOFFSETFROM:+1000
TZOFFSETTO:+1100
TZNAME:AEDT
DTSTART:20271002T160000
END:DAYLIGHT
END:VTIMEZONE
BEGIN:VEVENT
DTSTART;TZID=Australia/Melbourne:20260119T090000
DTEND;TZID=Australia/Melbourne:20260121T210000
DTSTAMP:20260424T063007
CREATED:20250904T012341Z
LAST-MODIFIED:20251031T062838Z
UID:10000126-1768813200-1769029200@iblp.org.au
SUMMARY:Annual Family Conference 2026
DESCRIPTION:“My brethren\, count it all joy when you fall into divers temptations; knowing this\, that the trying of your faith worketh patience. But let patience have her perfect work\, that you may be perfect and entire\, wanting nothing.”\nJames 1:2-4\nOur theme for our 2026 Annual Family Conference is: “Count It All Joy.” It can be easy to get discouraged as we face difficulties in life and see the challenges our culture is facing. God’s desire for us as believers is that we lift our eyes off ourselves and our circumstances and look to Him. Instead of just enduring the trials of life\, Christ actually calls us to count these tests as joy! \nHow can we be joyful in the midst of hardship and why should we count these these trials as joy? Because God wants to conform us into the image of Christ through the temporal suffering we are going through. We are able to experience joy even in our affliction\, because we know He is doing an eternal work in our lives! II Corinthians 4:17 says: “For our light affliction\, which is but for a moment\, worketh for us a far more exceeding and eternal weight of glory.” God shapes us more into the image of His Son as we respond rightly to the irritations and tests we face in life by counting them all joy\, through His divine enablement. \nJesus told His disciples in John 16:33 that in the world they would have tribulation. But then He tells them what their response should be : “But be of good cheer; I have overcome the world.”  \nAs believers\, the joy of the Lord is our strength. Even in the midst of persecution\, rejection and trials\, we can rejoice because Christ has overcome the world and He dwells in us! \nWe trust that your family will be encouraged and challenged at the 2026 Annual Family Conference through the engaging messages and meaningful fellowship to look to the Lord and experience His super-abounding joy even in the midst of trials! \n  \nRegister Here\n 
URL:https://iblp.org.au/event/annual-family-conference-2026/
LOCATION:Kilsyth South Baptist Church\, 382-388 Liverpool Rd\,\, Kilsyth South\, Victoria\, 3137\, Australia
ATTACH;FMTTYPE=image/jpeg:https://iblp.org.au/wp-content/uploads/2025/09/2026-Family-Conference-featured-image-e1756948856124.jpg
END:VEVENT
BEGIN:VEVENT
DTSTART;TZID=Australia/Melbourne:20260122T090000
DTEND;TZID=Australia/Melbourne:20260123T170000
DTSTAMP:20260424T063007
CREATED:20250904T014250Z
LAST-MODIFIED:20251106T071612Z
UID:10000127-1769072400-1769187600@iblp.org.au
SUMMARY:Student Conference 2026
DESCRIPTION:“And to know the love of Christ\, which passeth knowledge\, that ye might be filled with all the fullness of God.” Ephesians 3:19 \nHow well do you know God? \nDo you just know about Him? \nHave others told you how they know God? \nDoes God know you\, deeply and intimately? \nJourney 45.7  is the average length in centimetres from our brains to our hearts. So often we have all these facts about God that we know in our minds\, but they often stay there; not really forming a basis of a relationship with God\, impacting our lives\, or changing our behaviours. During our two days together we hope that the Lord will take truths about Himself from just a head knowledge to a personal ‘heart’ knowledge.  That each one of us may be ‘filled with all the fullness of God.” and experience eternal life which is ” that they might know thee the only true God\, and Jesus Christ\, whom thou hast sent.” \nJoin us at the ATI Student Conference 2026 to draw deeper into a relational knowledge of God that is deeper than any other relationship you could ever have. \nDetails: \nTime – 9:00am – 9:00pm Thursday\, and 9:00am – 5:00pm Friday \nMeals – Thursday lunch and dinner and Friday lunch are included \nCost – ATI Students $50 each\, Non-ATI students $75 each. \nAccommodation is not included. If you need help in sorting out some options please contact the office. \nRegister Here  \n  \n 
URL:https://iblp.org.au/event/student-conference-2026/
LOCATION:4 Haig Rd Mount Evelyn\, 4 Haig Rd\, Mount Everlyn\, Victoria\, 3796\, Australia
ATTACH;FMTTYPE=image/png:https://iblp.org.au/wp-content/uploads/2025/09/Student-Conference-2025-Theme-1-e1756950130669.png
END:VEVENT
END:VCALENDAR