BEGIN:VCALENDAR
VERSION:2.0
PRODID:-//IBLP Australia - ECPv6.15.20//NONSGML v1.0//EN
CALSCALE:GREGORIAN
METHOD:PUBLISH
X-ORIGINAL-URL:https://iblp.org.au
X-WR-CALDESC:Events for IBLP Australia
REFRESH-INTERVAL;VALUE=DURATION:PT1H
X-Robots-Tag:noindex
X-PUBLISHED-TTL:PT1H
BEGIN:VTIMEZONE
TZID:Australia/Melbourne
BEGIN:STANDARD
TZOFFSETFROM:+1100
TZOFFSETTO:+1000
TZNAME:AEST
DTSTART:20240406T160000
END:STANDARD
BEGIN:DAYLIGHT
TZOFFSETFROM:+1000
TZOFFSETTO:+1100
TZNAME:AEDT
DTSTART:20241005T160000
END:DAYLIGHT
BEGIN:STANDARD
TZOFFSETFROM:+1100
TZOFFSETTO:+1000
TZNAME:AEST
DTSTART:20250405T160000
END:STANDARD
BEGIN:DAYLIGHT
TZOFFSETFROM:+1000
TZOFFSETTO:+1100
TZNAME:AEDT
DTSTART:20251004T160000
END:DAYLIGHT
BEGIN:STANDARD
TZOFFSETFROM:+1100
TZOFFSETTO:+1000
TZNAME:AEST
DTSTART:20260404T160000
END:STANDARD
BEGIN:DAYLIGHT
TZOFFSETFROM:+1000
TZOFFSETTO:+1100
TZNAME:AEDT
DTSTART:20261003T160000
END:DAYLIGHT
END:VTIMEZONE
BEGIN:VEVENT
DTSTART;TZID=Australia/Melbourne:20250809T090000
DTEND;TZID=Australia/Melbourne:20250809T170000
DTSTAMP:20260424T154234
CREATED:20240830T073404Z
LAST-MODIFIED:20250703T002110Z
UID:10000115-1754730000-1754758800@iblp.org.au
SUMMARY:ATI Scripture Memory Bee 2025
DESCRIPTION:In a world that seems to constantly drain our souls and pull us down\, do you need refreshment. God’s word promises us that \n“The Law of the Lord is PERFECT\, \nReviving the Soul” Psalm 19:7 \nThe Scripture Memory Bees are a wonderful experience for all to attend. For those who are memorizing\, this day provides an opportunity to share what they’ve been working on and bless others as they hear the Word. For those who want encouragement to memorize or to encourage their families\, this is a day for them to see the example set for them and be encouraged by the reviving power of the Word of God. \nThere are a variety of activities throughout the day as well as time spent being refreshed by those quoting their memorized verses. This means that even if you have children who have not memorized there will be activities they can participate in. Other activities include: Verse Scavenger Hunt\, Scripture in Song \, and Bible quizzes and competitions. This day is one of our favourites each year and we hope that you will be able to join us and experience for yourselves the blessing of a day having your soul revived. \nOnce you register\, you will be contacted by us to submit the verses/chapters/books that you have memorized and the version you memorized in. Then we will prepare to test you on the day\, by having you recite your passage(s) while we all look on and see how accurate you can be.  Scoring in based on the number of verses accurately recited. Competition Categories you can enter are as follows: Preschool\, Ages 6-10\, Ages 11-16\, Ages 17+ and Families. \nWe have the wonderful problem of having so many reciting to fit into the day\, so we have had to bring in a time limit to each category so that we can make sure we have time for all the sharing.  Here are the time limitations for each category: \nPreschool – 5 minutes\nAges 6-10 – 15 minutes\nAges 11-16 – 30 minutes\nAges 17+ -30 minutes\nFamilies – 15 minutes\nWhere: 4 Haig Rd Mount Evelyn VIC 3796 \nCost: $30 ATI Family or $40 for a non-ATI family\, $10 for an individual (or $15 for ATI Families who do not want to enter the reciting and $20 for non-ATI Families who do not want to enter the reciting) \nLunch of soup and rolls is available for $3 per person. \nREGISTER HERE \n  \n 
URL:https://iblp.org.au/event/ati-scripture-memory-bee-2025/
LOCATION:4 Haig Rd Mount Evelyn\, 4 Haig Rd\, Mount Everlyn\, Victoria\, 3796\, Australia
ATTACH;FMTTYPE=image/png:https://iblp.org.au/wp-content/uploads/2024/08/Memory-Bee-Logo-2025.png
END:VEVENT
BEGIN:VEVENT
DTSTART;TZID=Australia/Melbourne:20250821T090000
DTEND;TZID=Australia/Melbourne:20250821T140000
DTSTAMP:20260424T154234
CREATED:20250130T032127Z
LAST-MODIFIED:20250206T001238Z
UID:10000123-1755766800-1755784800@iblp.org.au
SUMMARY:August Family Day 2025
DESCRIPTION:“If you love me\, keep my commandments.” John 14:15\nUsually on the third Thursday of the month\, a group of local Christian home-educating families gather to discover more about one of the 49 commands of Christ found in Matthew 5-7 and a corresponding character quality through songs\, skits and stories\, Bible memorisation\, a short lesson\, small group discussions\, craft and practical projects. \nThis month we will be looking at the command BE A HOUSE OF PRAYER from Matthew 21:13 and the Character Quality of PERSUASIVENESS. Come and join us as we study together what it means to love God through keeping this commandment.\nNew families are always welcome! \n“It’s the highlight of my children’s month” says one mum. \n \nEach Family Day registration start at 9:00am with the program beginning at 9:30am and concludes after a shared lunch at 2:00pm\, though many stay on to fellowship well into the afternoon. \nLunch is $3 a head for a sausage sizzle. \nPlease contact the main office for more details by emailing info@iblp.org.au\, calling 03 9735 2633\, \nOR \nRegister Here
URL:https://iblp.org.au/event/august-family-day-2025/
LOCATION:Victoria
ATTACH;FMTTYPE=image/png:https://iblp.org.au/wp-content/uploads/2021/01/FD-Banner.png
END:VEVENT
END:VCALENDAR