BEGIN:VCALENDAR
VERSION:2.0
PRODID:-//IBLP Australia - ECPv6.15.20//NONSGML v1.0//EN
CALSCALE:GREGORIAN
METHOD:PUBLISH
X-WR-CALNAME:IBLP Australia
X-ORIGINAL-URL:https://iblp.org.au
X-WR-CALDESC:Events for IBLP Australia
REFRESH-INTERVAL;VALUE=DURATION:PT1H
X-Robots-Tag:noindex
X-PUBLISHED-TTL:PT1H
BEGIN:VTIMEZONE
TZID:Australia/Melbourne
BEGIN:STANDARD
TZOFFSETFROM:+1100
TZOFFSETTO:+1000
TZNAME:AEST
DTSTART:20240406T160000
END:STANDARD
BEGIN:DAYLIGHT
TZOFFSETFROM:+1000
TZOFFSETTO:+1100
TZNAME:AEDT
DTSTART:20241005T160000
END:DAYLIGHT
BEGIN:STANDARD
TZOFFSETFROM:+1100
TZOFFSETTO:+1000
TZNAME:AEST
DTSTART:20250405T160000
END:STANDARD
BEGIN:DAYLIGHT
TZOFFSETFROM:+1000
TZOFFSETTO:+1100
TZNAME:AEDT
DTSTART:20251004T160000
END:DAYLIGHT
BEGIN:STANDARD
TZOFFSETFROM:+1100
TZOFFSETTO:+1000
TZNAME:AEST
DTSTART:20260404T160000
END:STANDARD
BEGIN:DAYLIGHT
TZOFFSETFROM:+1000
TZOFFSETTO:+1100
TZNAME:AEDT
DTSTART:20261003T160000
END:DAYLIGHT
END:VTIMEZONE
BEGIN:VEVENT
DTSTART;TZID=Australia/Melbourne:20250120T090000
DTEND;TZID=Australia/Melbourne:20250123T200000
DTSTAMP:20260425T040618
CREATED:20240824T042641Z
LAST-MODIFIED:20241230T001157Z
UID:10000116-1737363600-1737662400@iblp.org.au
SUMMARY:Annual Family Conference 2025
DESCRIPTION:We see God’s glory displayed in so many amazing ways! His glory declared in the heavens. Psalm 19:1 states: “The heavens declare the glory of God; and the firmament sheweth his handywork”. Observing God’s creation is one aspect of the marvellous display of His glory. However\, the greatest revelation of the glory of God is in the face of His Son\, the Lord Jesus Christ! The Apostle John related the profound experience of being an eyewitness to Jesus while He was on earth: “And the Word was made flesh\, and dwelt among us\, (and we beheld his glory\, the glory as of the only begotten of the Father\,) full of grace and truth” (John 1:14). How often do we stop and take time to behold God’s glory? In the challenges and busyness of daily life and work\, all too easily we can lose our focus on the eternal. \n\n\n\n\n\n\nOur desire is that we would shift our focus from ourselves and our circumstances to the glory and majesty of our Lord Jesus Christ. The reality is that we become what we behold; what we focus on we conform our lives to. Incredibly\, when we behold the Lord and His glory through spending time with Him and seeking Him in His Word\, we are changed into His image by His Spirit. Scripture reveals this profound process of transformation: ”But we all\, with open face beholding as in a glass the glory of the Lord\, are changed into the same image from glory to glory\, even as by the Spirit of the Lord” (II Corinthians 3:18). \nGather with us as we gain a fresh vision of God’s glory and a renewed desire to be channels of His glory in our homes\, churches\, and communities. \n\n\n\nOnce again our Pathfinder Program (age 6-12) is being headed up by Jacob Evans and his great team of volunteers. Everybody involved loves their time in this theme based program that uses illustrations to open children’s eyes to spiritual truths. We’re not sure if the children or the leaders enjoy the time more\, but both have a fantastic time. So don’t forget to sign your children up\, and if your young people 15 and up are interested in joining in as leaders please fill that out as well. \n \nInnovators (ages 13-14) this year is all about the mark that we are aiming for. We aim to challenge young people to think about their goals in life and to see if what they are aiming at is actually where they are called to go. May God use this time together to inspire them to ‘seek first His kingdom and His righteousness.’ \n \nSunbeams (ages 2-5) will be a morning program for children to get their wriggles out and enjoy fun playing with other children. They will be joining in the Pathfinder program during stories\, songs and scripture memory and then having open playing time for the rest of the morning. Sign them up for the fun and learning they can experience. They will be with you for the rest of the time\, so this is a great opportunity to give them to be active before sitting with you in the sessions. \nThere are many opportunities for your 15+ year old to be involved. They are welcome to apply to serve in the teams leading Pathfinders\, Innovators and Sunbeams\, join in with the adult sessions\, or serve in the kitchen with Pastor Michael if that is their bent. There will also be some specific student sessions that are chosen to inspire them to follow Christ and be in Prayer. During lunch and dinner there will be the opportunity for them to join in the Choir (ages 13+) and the Orchestra (13+) the music will be sent to you prior to the program\, so they can get a head-start on learning the pieces before joining the others in practices which will end in a presentation on the Wednesday at the completion of the event. \n \nFor food this year we will only be providing Wednesday night dinner at Kilsyth South Baptist Church. For breakfast\, lunch and the other dinners it is strictly BYO. There are plenty of options close by in Kilsyth South that you can pop out to and get some lunch\, or if you prefer you can bring your own. However\, there are no cooking facilities available\, or fridge space\, so please be as self-sufficient as possible. Feel free to eat your evening meal at Haig road so that you can get more fellowship time in with the other families. \nWe do not have many options for accommodation and it is strictly first come first serve\, you are welcome to camp at Haig road\, but there are only portable bathroom facilities. Please organise your own accommodation if you are able to. \nCost: \nConference – ATI Family($150)\, Guest Family ($250)\, Individual Guest ($100)\, Individual ATI member ($50)\, First time Family ($200) \nPrograms – Sunbeams $5 per child capped at $10 per family\, Pathfinders – $21 per child capped at $80 per family\, Innovators – $15 per child capped at $25 per family \nFood – Children (3-10) dinners $6 each\, Adult (11+) dinners $9 each \n\nRegister Here
URL:https://iblp.org.au/event/annual-family-conference-2025/
LOCATION:Kilsyth South Baptist Church\, 382-388 Liverpool Rd\,\, Kilsyth South\, Victoria\, 3137\, Australia
ATTACH;FMTTYPE=image/jpeg:https://iblp.org.au/wp-content/uploads/2024/08/2024-Conference-Theme-scaled-e1724473011319.jpg
END:VEVENT
BEGIN:VEVENT
DTSTART;TZID=Australia/Melbourne:20250123T090000
DTEND;TZID=Australia/Melbourne:20250124T170000
DTSTAMP:20260425T040618
CREATED:20240906T072534Z
LAST-MODIFIED:20241101T001600Z
UID:10000118-1737622800-1737738000@iblp.org.au
SUMMARY:Student Conference 2025
DESCRIPTION:“But blessed are your eyes\, for they see: and your ears\, for they hear. For verily I say unto you\, That many prophets and righteous men have desired to see those things which ye see\, and have not seen them; and to hear those things which ye hear\, and have not heard them.” Matthew 13:16-17 \nWe are so blessed with all the revelations about God that we have grown up with.  The question really is\, what are we doing with this information. Are our eyes really seeing and our ears really hearing. When faced with the challenges in the world around us  do we see what God is doing? And in our own lives when we are looking for direction do we have eyes and ears to see what God is leading us to? \nJoin us for two days of great fellowship with other youth\, while together we seek to grow our understanding on how to truly see what God is doing in each of our lives and also in the world and how we can each be a part of His working in this age. \nWe are excited to have changed up the format a bit and we’ll have a points system back and many exciting plans for our time together. Join us to build friendships and set aside two days to fix our eyes again on the Lord and hearing from Him. \nDetails: \nTime – 9:00am – 9:00pm Thursday\, and 9:00am – 5:00pm Friday \nMeals – Thursday lunch and dinner and Friday lunch are included \nCost – ATI Students $50 each\, Non-ATI students $75 each. \nAccommodation is not included. If you need help in sorting out some options please contact the office. \nRegister Here 
URL:https://iblp.org.au/event/student-conference-2025/
LOCATION:4 Haig Rd Mount Evelyn\, 4 Haig Rd\, Mount Everlyn\, Victoria\, 3796\, Australia
ATTACH;FMTTYPE=image/png:https://iblp.org.au/wp-content/uploads/2024/09/1-e1725607442372.png
END:VEVENT
END:VCALENDAR