BEGIN:VCALENDAR
VERSION:2.0
PRODID:-//IBLP Australia - ECPv6.15.20//NONSGML v1.0//EN
CALSCALE:GREGORIAN
METHOD:PUBLISH
X-ORIGINAL-URL:https://iblp.org.au
X-WR-CALDESC:Events for IBLP Australia
REFRESH-INTERVAL;VALUE=DURATION:PT1H
X-Robots-Tag:noindex
X-PUBLISHED-TTL:PT1H
BEGIN:VTIMEZONE
TZID:Australia/Melbourne
BEGIN:STANDARD
TZOFFSETFROM:+1100
TZOFFSETTO:+1000
TZNAME:AEST
DTSTART:20230401T160000
END:STANDARD
BEGIN:DAYLIGHT
TZOFFSETFROM:+1000
TZOFFSETTO:+1100
TZNAME:AEDT
DTSTART:20230930T160000
END:DAYLIGHT
BEGIN:STANDARD
TZOFFSETFROM:+1100
TZOFFSETTO:+1000
TZNAME:AEST
DTSTART:20240406T160000
END:STANDARD
BEGIN:DAYLIGHT
TZOFFSETFROM:+1000
TZOFFSETTO:+1100
TZNAME:AEDT
DTSTART:20241005T160000
END:DAYLIGHT
BEGIN:STANDARD
TZOFFSETFROM:+1100
TZOFFSETTO:+1000
TZNAME:AEST
DTSTART:20250405T160000
END:STANDARD
BEGIN:DAYLIGHT
TZOFFSETFROM:+1000
TZOFFSETTO:+1100
TZNAME:AEDT
DTSTART:20251004T160000
END:DAYLIGHT
END:VTIMEZONE
BEGIN:VEVENT
DTSTART;TZID=Australia/Melbourne:20240803T090000
DTEND;TZID=Australia/Melbourne:20240803T173000
DTSTAMP:20260425T131539
CREATED:20230825T070059Z
LAST-MODIFIED:20240621T044954Z
UID:10000111-1722675600-1722706200@iblp.org.au
SUMMARY:2024 Scripture Memory Bee
DESCRIPTION:How’s your sword work? When it comes to scripture we need to be prepared with our sword wielding ability. Join us to celebrate those who have put in the time and effort to grow their memory bank of scripture for the battle we are engaged in. “For the weapons of our warfare are not carnal\, but mighty through God to the pulling down of strongholds.” 2 Corinthians 10:4 \nThe Scripture Memory Bees are a wonderful experience for all to attend. For those who are memorising\, this day provides an opportunity to share what they’ve been working on and bless others as they hear the Word. For those who want encouragement to memorise or to encourage their families\, this is a day for them to see the example set for them and be encouraged to find how God’s living and active Word is truly sharper than a two edged sword in their lives. \nThere are a variety of activities throughout the day as well as time spent watching people’s scriptural ‘Sword demonstrations’. This means that even if you have children who have not memorised there will be activities they can participate in. Other activities include: Verse Scavenger Hunt\, Scripture in Song \, and Bible quizzes and competitions. This day is one of our favourites each year and we hope that you will be able to join us and experience for yourselves the blessing of a day ‘tasting’ the ‘bread’ of the Word of God. \nOnce you register\, you will be contacted by us to submit the verses/chapters/books that you have memorised and the version you memorised in. Then we will prepare to test you on the day\, by having you recite your passage(s) while we all look on and see how accurate you can be.  Scoring in based on the number of verses accurately recited. Competition Categories you can enter are as follows: Preschool\, Ages 6-10\, Ages 11-16\, Ages 17+ and Families. \nWhere: 4 Haig Rd Mount Evelyn VIC 3796 \nCost: $20 ATI Family or $30 for a non-ATI family\, $5 for an individual (or $10 for Families who do not want to enter the reciting) \nLunch of soup and rolls is available for $3 per person. \nREGISTER HERE \n  \n 
URL:https://iblp.org.au/event/2024-scripture-memory-bee/
LOCATION:4 Haig Rd Mount Evelyn\, 4 Haig Rd\, Mount Everlyn\, Victoria\, 3796\, Australia
ATTACH;FMTTYPE=image/png:https://iblp.org.au/wp-content/uploads/2023/08/Memory-Bee-Logo-2024-e1692946834502.png
END:VEVENT
BEGIN:VEVENT
DTSTART;TZID=Australia/Melbourne:20240815T090000
DTEND;TZID=Australia/Melbourne:20240815T140000
DTSTAMP:20260425T131539
CREATED:20230825T061325Z
LAST-MODIFIED:20240719T022622Z
UID:10000107-1723712400-1723730400@iblp.org.au
SUMMARY:August Family Day 2024
DESCRIPTION:“If you love me\, keep my commandments.” John 14:15\nUsually on the third Thursday of the month\, a group of local Christian home-educating families gather to discover more about one of the 49 commands of Christ found in Matthew 5-7 and a corresponding character quality through songs\, skits and stories\, Bible memorisation\, a short lesson\, small group discussions\, craft and practical projects. \nThis month we will be looking at the command BEWARE OF LEAVEN from Matthew 16:6 and the Character Quality of VIRTUE. Come and join us as we study together what it means to love God through keeping this commandment.\nNew families are always welcome! \n“It’s the highlight of my children’s month” says one mum. \n \nEach Family Day registration start at 9:00am with the program beginning at 9:30am and concludes after a shared lunch at 2:00pm\, though many stay on to fellowship well into the afternoon. \nLunch is available at $2 a head for soup and a roll. \nPlease contact the main office for more details by emailing info@iblp.org.au\, calling 03 9735 2633\, \nOR \nRegister Here
URL:https://iblp.org.au/event/august-family-day-2024/
LOCATION:4 Haig Rd Mount Evelyn\, 4 Haig Rd\, Mount Everlyn\, Victoria\, 3796\, Australia
ATTACH;FMTTYPE=image/png:https://iblp.org.au/wp-content/uploads/2021/02/Family-Day-Logo-1-e1612492723528.png
END:VEVENT
END:VCALENDAR