BEGIN:VCALENDAR
VERSION:2.0
PRODID:-//IBLP Australia - ECPv6.15.20//NONSGML v1.0//EN
CALSCALE:GREGORIAN
METHOD:PUBLISH
X-ORIGINAL-URL:https://iblp.org.au
X-WR-CALDESC:Events for IBLP Australia
REFRESH-INTERVAL;VALUE=DURATION:PT1H
X-Robots-Tag:noindex
X-PUBLISHED-TTL:PT1H
BEGIN:VTIMEZONE
TZID:Australia/Melbourne
BEGIN:STANDARD
TZOFFSETFROM:+1100
TZOFFSETTO:+1000
TZNAME:AEST
DTSTART:20230401T160000
END:STANDARD
BEGIN:DAYLIGHT
TZOFFSETFROM:+1000
TZOFFSETTO:+1100
TZNAME:AEDT
DTSTART:20230930T160000
END:DAYLIGHT
BEGIN:STANDARD
TZOFFSETFROM:+1100
TZOFFSETTO:+1000
TZNAME:AEST
DTSTART:20240406T160000
END:STANDARD
BEGIN:DAYLIGHT
TZOFFSETFROM:+1000
TZOFFSETTO:+1100
TZNAME:AEDT
DTSTART:20241005T160000
END:DAYLIGHT
BEGIN:STANDARD
TZOFFSETFROM:+1100
TZOFFSETTO:+1000
TZNAME:AEST
DTSTART:20250405T160000
END:STANDARD
BEGIN:DAYLIGHT
TZOFFSETFROM:+1000
TZOFFSETTO:+1100
TZNAME:AEDT
DTSTART:20251004T160000
END:DAYLIGHT
END:VTIMEZONE
BEGIN:VEVENT
DTSTART;TZID=Australia/Melbourne:20240321T090000
DTEND;TZID=Australia/Melbourne:20240321T140000
DTSTAMP:20260425T230202
CREATED:20230825T025236Z
LAST-MODIFIED:20240307T052042Z
UID:10000060-1711011600-1711029600@iblp.org.au
SUMMARY:March Family Day 2024
DESCRIPTION:“If you love me\, keep my commandments.” John 14:15\nUsually on the third Thursday of the month\, a group of local Christian home-educating families gather to discover more about one of the 49 commands of Christ found in Matthew 5-7 and a corresponding character quality through songs\, skits and stories\, Bible memorisation\, a short lesson\, small group discussions\, craft and practical projects. \nThis month we will be looking at the command HEAR GOD’S VOICE from Matthew 11:15 and the Character Quality of ATTENTIVENESS. Come and join us as we study together what it means to love God through keeping this commandment.\nNew families are always welcome! \n“It’s the highlight of my children’s month” says one mum. \n \nEach Family Day registration start at 9:00am with the program beginning at 9:30am and concludes after a shared lunch at 2:00pm\, though many stay on to fellowship well into the afternoon. \nLunch is $2 a head for a sausage sizzle. \nPlease contact the main office for more details by emailing info@iblp.org.au\, calling 03 9735 2633\, \nOR \nRegister Here
URL:https://iblp.org.au/event/march-family-day-2024/
LOCATION:4 Haig Rd Mount Evelyn\, 4 Haig Rd\, Mount Everlyn\, Victoria\, 3796\, Australia
ATTACH;FMTTYPE=image/png:https://iblp.org.au/wp-content/uploads/2021/02/Family-Day-Logo-1-e1612492723528.png
END:VEVENT
END:VCALENDAR