BEGIN:VCALENDAR
VERSION:2.0
PRODID:-//IBLP Australia - ECPv6.15.20//NONSGML v1.0//EN
CALSCALE:GREGORIAN
METHOD:PUBLISH
X-WR-CALNAME:IBLP Australia
X-ORIGINAL-URL:https://iblp.org.au
X-WR-CALDESC:Events for IBLP Australia
REFRESH-INTERVAL;VALUE=DURATION:PT1H
X-Robots-Tag:noindex
X-PUBLISHED-TTL:PT1H
BEGIN:VTIMEZONE
TZID:Australia/Melbourne
BEGIN:STANDARD
TZOFFSETFROM:+1100
TZOFFSETTO:+1000
TZNAME:AEST
DTSTART:20220402T160000
END:STANDARD
BEGIN:DAYLIGHT
TZOFFSETFROM:+1000
TZOFFSETTO:+1100
TZNAME:AEDT
DTSTART:20221001T160000
END:DAYLIGHT
BEGIN:STANDARD
TZOFFSETFROM:+1100
TZOFFSETTO:+1000
TZNAME:AEST
DTSTART:20230401T160000
END:STANDARD
BEGIN:DAYLIGHT
TZOFFSETFROM:+1000
TZOFFSETTO:+1100
TZNAME:AEDT
DTSTART:20230930T160000
END:DAYLIGHT
BEGIN:STANDARD
TZOFFSETFROM:+1100
TZOFFSETTO:+1000
TZNAME:AEST
DTSTART:20240406T160000
END:STANDARD
BEGIN:DAYLIGHT
TZOFFSETFROM:+1000
TZOFFSETTO:+1100
TZNAME:AEDT
DTSTART:20241005T160000
END:DAYLIGHT
END:VTIMEZONE
BEGIN:VEVENT
DTSTART;TZID=Australia/Melbourne:20231009T200000
DTEND;TZID=Australia/Melbourne:20231106T213000
DTSTAMP:20260426T055909
CREATED:20230901T014543Z
LAST-MODIFIED:20230901T023715Z
UID:10000112-1696881600-1699306200@iblp.org.au
SUMMARY:Weekly Relationships and Family Life Study Series
DESCRIPTION:Join Pastor Michael Drennan each Monday Evening from 8:00 pm to delve into one of the following fascinating topics: \n  \n   \nSend an email to our office info@iblp.org.au and we will send you the link to join us on Zoom.   Or join each evening using the button below. Each session does not necessarily build on the ones before\, so you are able to attend all the sessions\, or just the ones that interest you. \nWe hope that you can join us! \nJoin us now!
URL:https://iblp.org.au/event/weekly-relationships-and-family-life-study-series/
LOCATION:Victoria
ATTACH;FMTTYPE=image/jpeg:https://iblp.org.au/wp-content/uploads/2023/09/photo-of-happy-family-4205505-e1693532630576.jpg
END:VEVENT
BEGIN:VEVENT
DTSTART;TZID=Australia/Melbourne:20231116T090000
DTEND;TZID=Australia/Melbourne:20231116T150000
DTSTAMP:20260426T055909
CREATED:20221110T233610Z
LAST-MODIFIED:20230707T010928Z
UID:10000050-1700125200-1700146800@iblp.org.au
SUMMARY:November Family Day 2023
DESCRIPTION:“If you love me\, keep my commandments.” John 14:15\nUsually on the third Thursday of the month\, a group of local Christian home-educating families gather to discover more about one of the 49 commands of Christ found in Matthew 5-7 and a corresponding character quality through songs\, skits and stories\, Bible memorisation\, a short lesson\, small group discussions\, craft and practical projects. \nThis month we will be looking at the command FEAR NOT from Matthew 10:28 and the Character Quality of BOLDNESS. Come and join us as we study together what it means to love God through keeping this commandment.\nNew families are always welcome! \n“It’s the highlight of my children’s month” says one mum. \n \nEach Family Day registration start at 9:00am with the program beginning at 9:30am and concludes after a shared lunch at 2:00pm\, though many stay on to fellowship well into the afternoon. \nLunch is $2 a head for a sausage sizzle. \nAlso available on this last Family Day of the year is our annual gingerbread house decorating in the afternoon. The kits are available for $15 per kit and come with all you need to construct and decorate. Please indicate on the form how many houses you would like to construct. Payment is made on the day. \nPlease contact the main office for more details by emailing info@iblp.org.au\, calling 03 9735 2633\, \nOR \nRegister Here
URL:https://iblp.org.au/event/november-family-day-2023/
LOCATION:4 Haig Rd Mount Evelyn\, 4 Haig Rd\, Mount Everlyn\, Victoria\, 3796\, Australia
ATTACH;FMTTYPE=image/png:https://iblp.org.au/wp-content/uploads/2021/02/Family-Day-Logo-1-e1612492723528.png
END:VEVENT
END:VCALENDAR