BEGIN:VCALENDAR
VERSION:2.0
PRODID:-//IBLP Australia - ECPv6.15.20//NONSGML v1.0//EN
CALSCALE:GREGORIAN
METHOD:PUBLISH
X-WR-CALNAME:IBLP Australia
X-ORIGINAL-URL:https://iblp.org.au
X-WR-CALDESC:Events for IBLP Australia
REFRESH-INTERVAL;VALUE=DURATION:PT1H
X-Robots-Tag:noindex
X-PUBLISHED-TTL:PT1H
BEGIN:VTIMEZONE
TZID:Australia/Melbourne
BEGIN:STANDARD
TZOFFSETFROM:+1100
TZOFFSETTO:+1000
TZNAME:AEST
DTSTART:20220402T160000
END:STANDARD
BEGIN:DAYLIGHT
TZOFFSETFROM:+1000
TZOFFSETTO:+1100
TZNAME:AEDT
DTSTART:20221001T160000
END:DAYLIGHT
BEGIN:STANDARD
TZOFFSETFROM:+1100
TZOFFSETTO:+1000
TZNAME:AEST
DTSTART:20230401T160000
END:STANDARD
BEGIN:DAYLIGHT
TZOFFSETFROM:+1000
TZOFFSETTO:+1100
TZNAME:AEDT
DTSTART:20230930T160000
END:DAYLIGHT
BEGIN:STANDARD
TZOFFSETFROM:+1100
TZOFFSETTO:+1000
TZNAME:AEST
DTSTART:20240406T160000
END:STANDARD
BEGIN:DAYLIGHT
TZOFFSETFROM:+1000
TZOFFSETTO:+1100
TZNAME:AEDT
DTSTART:20241005T160000
END:DAYLIGHT
END:VTIMEZONE
BEGIN:VEVENT
DTSTART;TZID=Australia/Melbourne:20230804T180000
DTEND;TZID=Australia/Melbourne:20230805T180000
DTSTAMP:20260426T110239
CREATED:20221110T234945Z
LAST-MODIFIED:20230714T002839Z
UID:10000054-1691172000-1691258400@iblp.org.au
SUMMARY:Family Connect Conference 2023
DESCRIPTION:Do you ever feel discouraged as you look around at the world? What about when you look at yourself? \nAs Corrie Ten Boom put it\, “If you look at the world\, you’ll be distressed. If you look within\, you’ll be depressed.” But don’t stop there because as she finished\, “If you look at God\, you’ll be at rest.” For our Christ has Overcome! Praise God that we can spend this evening and a day reflecting on what Christ has done as He has overcome the world. \n \nEvery Family Connect weekend is such a blessing to those who attend. This event starts Friday night with a fellowship meal and one session. Then picks up for a full day on the Saturday finishing with a presentation to the parents by the children at 5:30pm. \nAvailable: \nAdult sessions for 13+ year olds. These will mostly be messages from the Family Camp in the USA with a special in person message by Michael Drennan. There might be a few youth sessions for those not involved in running the Pathfinder program. \nPathfinder sessions for 5-12 year olds: This is a wonderful program that will not only keep your children focused and enjoying themselves\, but more importantly it teaches them life changing truths about following Jesus. Bring them along to learn Bible verses\, songs and life-changing stories. \nMeals: \nWe will be holding a fellowship dinner Friday night and will also provide lunch on Saturday. These come at an additional cost and details are on the form below. \nCost: \nConference: $40 for ATI Families\, $60 for Guest Families \nPathfinders: $10 per child capped at $25 for the family \nMeals: Dinner is $8 for 10 year olds and up\, and $5 for children 3-9 years old. Lunch is a flat $3 per person. \n  \nRegistration form\n 
URL:https://iblp.org.au/event/family-connect-conference-2023/
LOCATION:4 Haig Rd Mount Evelyn\, 4 Haig Rd\, Mount Everlyn\, Victoria\, 3796\, Australia
ATTACH;FMTTYPE=image/png:https://iblp.org.au/wp-content/uploads/2022/11/FCC-2023-Email-Header.png
END:VEVENT
END:VCALENDAR