BEGIN:VCALENDAR
VERSION:2.0
PRODID:-//IBLP Australia - ECPv6.15.20//NONSGML v1.0//EN
CALSCALE:GREGORIAN
METHOD:PUBLISH
X-WR-CALNAME:IBLP Australia
X-ORIGINAL-URL:https://iblp.org.au
X-WR-CALDESC:Events for IBLP Australia
REFRESH-INTERVAL;VALUE=DURATION:PT1H
X-Robots-Tag:noindex
X-PUBLISHED-TTL:PT1H
BEGIN:VTIMEZONE
TZID:Australia/Melbourne
BEGIN:STANDARD
TZOFFSETFROM:+1100
TZOFFSETTO:+1000
TZNAME:AEST
DTSTART:20210403T160000
END:STANDARD
BEGIN:DAYLIGHT
TZOFFSETFROM:+1000
TZOFFSETTO:+1100
TZNAME:AEDT
DTSTART:20211002T160000
END:DAYLIGHT
BEGIN:STANDARD
TZOFFSETFROM:+1100
TZOFFSETTO:+1000
TZNAME:AEST
DTSTART:20220402T160000
END:STANDARD
BEGIN:DAYLIGHT
TZOFFSETFROM:+1000
TZOFFSETTO:+1100
TZNAME:AEDT
DTSTART:20221001T160000
END:DAYLIGHT
BEGIN:STANDARD
TZOFFSETFROM:+1100
TZOFFSETTO:+1000
TZNAME:AEST
DTSTART:20230401T160000
END:STANDARD
BEGIN:DAYLIGHT
TZOFFSETFROM:+1000
TZOFFSETTO:+1100
TZNAME:AEDT
DTSTART:20230930T160000
END:DAYLIGHT
END:VTIMEZONE
BEGIN:VEVENT
DTSTART;TZID=Australia/Melbourne:20220123T193000
DTEND;TZID=Australia/Melbourne:20220129T213000
DTSTAMP:20260425T124841
CREATED:20210827T073956Z
LAST-MODIFIED:20220119T235841Z
UID:10000084-1642966200-1643491800@iblp.org.au
SUMMARY:2022 Online January Family Conference
DESCRIPTION:We hope to see you on January 23rd-29th 2022 for our Family Conference!\nOur online conference is our answer to the need to support all families without discrimination as to vaccine status.  We hope that you will be able to get together in each others homes and in smaller groups during our online program in order to fellowship in person.\nOur program will kick off with a live Zoom session for the whole family on Sunday night.  When we will be watching a message from Tom Harmon. \nThen starting the Monday afternoon\, the Pathfinder sessions will run daily from 1:00pm – 3:00pm. Pathfinders is for children aged 5-12\, and it is a great time of learning how to have a deeper relationship with God through a fun theme which is only disclosed the first evening.  Each child who enrols in the program will receive a package in the mail which will contain craft materials\, an activity book and all the other items they need to participate. (Note: some items like scissors\, tape and glue may need to be personally provided). The daily programs will include\, songs\, scripture memory\, games\, lessons and the all favourite stories and skits. This year we are looking at creating small group teams to encourage the children in their friendship with the others. \nStudent Sessions will be on Zoom on Monday – Wednesday evenings from 7:30pm – 9:30pm. This program is will be for the young adults aged 13+.  During this time we will be fellowshipping together and looking at some challenging messages. With small group discussions and prayer times\, we are looking forward to this mini student conference being a time of encouragement and spiritual refreshment.  We also encourage the young adults to join in on the adults’ session on Thursday – Saturday. \nAdult sessions will be as follows: \n\nTHURSDAY – 27th January\n\n\n\n10:00 AM: A Zoom session with Jordyn Stoyanoff \n3:30 PM: Online session with Don Courville \n7:30 PM: Zoom session with Pastor Jeremiah Yap \n\n\n\nFRIDAY ~ 28th January\n10:00 AM: Online sessions with Otto Koning and Gil Bates\n\n3:30 PM: Online session Vanya message \n7:30 PM: Zoom meeting with Peter Stevens \n\n\nSATURDAY ~ 29th January\n\n10:00 AM: Zoom session with Gabriel Cleator and Dr Tim Levendusky \n3:30 PM: Online session with Scott Pauley \n5:00 PM: Men’s session on Zoom with a message from Mark Wilkes \n7:30 PM: Final session Join us to hear a message from Michael Drennan on Zoom. This will be a great session for the whole family. \n  \n\nCLICK HERE FOR THE ONLINE PORTHOLE!\nConference Fee –   ATI family FREE;     Guest family $30 \nPathfinders – ATI – $15 for first child + $10 for each extra child\, capped at $40 per family \nNon-ATI – $20 for first child + $15 for each extra child\, capped at $50 per family \nYoung Adults –     ATI – FREE   Non-ATI -$5 per person\, capped at $15 per family \n  \nRegister Here
URL:https://iblp.org.au/event/2022-annual-family-conference/
LOCATION:Victoria
ATTACH;FMTTYPE=image/png:https://iblp.org.au/wp-content/uploads/2021/08/Banner-1-1.png
END:VEVENT
END:VCALENDAR