BEGIN:VCALENDAR
VERSION:2.0
PRODID:-//IBLP Australia - ECPv6.15.20//NONSGML v1.0//EN
CALSCALE:GREGORIAN
METHOD:PUBLISH
X-WR-CALNAME:IBLP Australia
X-ORIGINAL-URL:https://iblp.org.au
X-WR-CALDESC:Events for IBLP Australia
REFRESH-INTERVAL;VALUE=DURATION:PT1H
X-Robots-Tag:noindex
X-PUBLISHED-TTL:PT1H
BEGIN:VTIMEZONE
TZID:Australia/Melbourne
BEGIN:STANDARD
TZOFFSETFROM:+1100
TZOFFSETTO:+1000
TZNAME:AEST
DTSTART:20200404T160000
END:STANDARD
BEGIN:DAYLIGHT
TZOFFSETFROM:+1000
TZOFFSETTO:+1100
TZNAME:AEDT
DTSTART:20201003T160000
END:DAYLIGHT
BEGIN:STANDARD
TZOFFSETFROM:+1100
TZOFFSETTO:+1000
TZNAME:AEST
DTSTART:20210403T160000
END:STANDARD
BEGIN:DAYLIGHT
TZOFFSETFROM:+1000
TZOFFSETTO:+1100
TZNAME:AEDT
DTSTART:20211002T160000
END:DAYLIGHT
BEGIN:STANDARD
TZOFFSETFROM:+1100
TZOFFSETTO:+1000
TZNAME:AEST
DTSTART:20220402T160000
END:STANDARD
BEGIN:DAYLIGHT
TZOFFSETFROM:+1000
TZOFFSETTO:+1100
TZNAME:AEDT
DTSTART:20221001T160000
END:DAYLIGHT
END:VTIMEZONE
BEGIN:VEVENT
DTSTART;TZID=Australia/Melbourne:20210701T090000
DTEND;TZID=Australia/Melbourne:20210702T173000
DTSTAMP:20260425T020453
CREATED:20210326T055849Z
LAST-MODIFIED:20210603T033723Z
UID:10000077-1625130000-1625247000@iblp.org.au
SUMMARY:2021 Student Conference
DESCRIPTION:In a world full of people who are\, like chameleons\, constantly try to fit in to all that is going on around them; God calls us to be radically different. In fact He calls us to be TRANSFORMED.\nThis year at Student conference we want to look at: what it truly means to be transformed\, how we are transformed\, and challenged to want to be transformed by Him. \nThough we are not able to Gabriel and Sara Cleator here in person this year\, we are still hoping to have Gabriel share a few messages via Zoom.  We also have some thought provoking and inspiring messages from Joe Norvel\, Dr Josef Tson\, and the Wilkes sibilings. \nWe in the process of organising some live sessions\, with speakers to be announced; so watch this space! \nAccommodation is not included in this cost.  Thursday lunch and dinner along with Friday lunch are included in the cost. \nJoin us for the fellowship\, fun and inspiration to your faith that is STUDENT CONFERENCE!\n  \nRegister Here
URL:https://iblp.org.au/event/2021-student-conference/
LOCATION:Kilsyth South Baptist Church\, 382-388 Liverpool Rd\,\, Kilsyth South\, Victoria\, 3137\, Australia
ATTACH;FMTTYPE=image/png:https://iblp.org.au/wp-content/uploads/2019/11/cancelled-stamp-2-e1721120035798.png
END:VEVENT
BEGIN:VEVENT
DTSTART;TZID=Australia/Melbourne:20210702T140000
DTEND;TZID=Australia/Melbourne:20210702T213000
DTSTAMP:20260425T020453
CREATED:20210611T062838Z
LAST-MODIFIED:20210623T030629Z
UID:10000076-1625234400-1625261400@iblp.org.au
SUMMARY:Online Family Get-Together
DESCRIPTION:We thank the Lord for His provision of a silver lining to the decision to cancel our Family Conference for late June. We will now be hosting an online get-together on Friday the 2nd!\nThere are three sessions on offer and all for FREE for ATI Families or $5 for all three sessions for a guest family! \nSessions on offer: \n\n2:00PM – 3:30PM Advanced Training Institute (ATI) Interest Session for those interested in exploring joining ATI. This session will be run by Rod Evans\, our director of ministries and an ATI dad with many years experience. This session is for those curious about what ATI is really about and how the Wisdom Booklets work as a curriculum.\n4:00PM – 5:00PM How to Write Your School Year Plan Using the Wisdom Booklets. This is a session to enable all home-schooling families to be able to write up their school year plan for each child\, especially in regards to the Wisdom Booklets.  Anita Reynolds and Glenda Boissevain will be happy to answer questions and explore ideas together with you. Together they have many years experience in using the ATI material and have just recently been working on an outline to aid families in forming a year plan from the Wisdom Booklets that covers all the 8 key learning areas the government is requiring.\n7:00PM – 9:30PM Evening Session with Kevin Currell. Kevin Currell is the current Principle of the Victorian Baptist Bible College\, and loves to share his extensive knowledge of Bible lands and customs. We look forward to his entertaining teaching style\, which makes his messages enjoyable for all ages. We will follow the session with times of fellowship and prayer\, so that we can all have a chance to share and be encouraged by our friends.\n\nAll the sessions will be run via Zoom so you should be able to not only see the speaker/facilitator\, but also catch up with the others attending. Details for the Zoom sessions will be sent out in the days beforehand to those who register for the sessions. \n  \nWe hope that you will be able to join us at this online event\, so that we can ‘see’ each other even if not in person. \nRegister Here
URL:https://iblp.org.au/event/online-family-get-together/
LOCATION:Victoria
CATEGORIES:ATI Events
ATTACH;FMTTYPE=image/jpeg:https://iblp.org.au/wp-content/uploads/2021/06/images.jpg
END:VEVENT
BEGIN:VEVENT
DTSTART;TZID=Australia/Melbourne:20210715T090000
DTEND;TZID=Australia/Melbourne:20210715T140000
DTSTAMP:20260425T020453
CREATED:20210331T044536Z
LAST-MODIFIED:20210331T051214Z
UID:10000079-1626339600-1626357600@iblp.org.au
SUMMARY:July Family Day
DESCRIPTION:“If you love me\, keep my commandments.” John 14:15\nOn the third Thursday of the month\, a group of local Christian home-educating families gather to discover more about one of the 49 commands of Christ found in Matthew 5-7 and a corresponding character quality through songs\, skits and stories\, Bible memorisation\, a short lesson\, small group discussions\, craft and practical projects. \nThis month we will be looking at the command from Matthew 5:14-16 “LET YOUR LIGHT SHINE” and the Character Quality of GENEROSITY. Come and join us as we study together what it means to love God through keeping this commandment.\nNew families are always welcome! \n“It’s the highlight of my children’s month” says one mum. \n \nEach Family Day registration start at 9:00am with the program beginning at 9:30am and concludes after a shared lunch at 2:00pm. \nLunch is a BYO picnic due to Covid-19 Restrictions \nPlease contact the main office for more details by emailing info@iblp.org.au\, calling 03 9735 2633\, \nOR \nRegister Here
URL:https://iblp.org.au/event/july-family-day-5/
LOCATION:Victoria
ATTACH;FMTTYPE=image/png:https://iblp.org.au/wp-content/uploads/2021/02/Family-Day-Logo-1-e1612492723528.png
END:VEVENT
END:VCALENDAR