BEGIN:VCALENDAR
VERSION:2.0
PRODID:-//IBLP Australia - ECPv6.15.20//NONSGML v1.0//EN
CALSCALE:GREGORIAN
METHOD:PUBLISH
X-ORIGINAL-URL:https://iblp.org.au
X-WR-CALDESC:Events for IBLP Australia
REFRESH-INTERVAL;VALUE=DURATION:PT1H
X-Robots-Tag:noindex
X-PUBLISHED-TTL:PT1H
BEGIN:VTIMEZONE
TZID:UTC
BEGIN:STANDARD
TZOFFSETFROM:+0000
TZOFFSETTO:+0000
TZNAME:UTC
DTSTART:20200101T000000
END:STANDARD
END:VTIMEZONE
BEGIN:VEVENT
DTSTART;TZID=UTC:20210318T090000
DTEND;TZID=UTC:20210318T140000
DTSTAMP:20260425T021003
CREATED:20210203T163403Z
LAST-MODIFIED:20210204T154854Z
UID:10000075-1616058000-1616076000@iblp.org.au
SUMMARY:March Family Day
DESCRIPTION:“If you love me\, keep my commandments.” John 14:15\nOn the third Thursday of the month\, a group of local Christian home-educating families gather to discover more about one of the 49 commands of Christ found in Matthew 5-7 and a corresponding character quality through songs\, skits and stories\, Bible memorisation\, a short lesson\, small group discussions\, craft and practical projects. \nThis month we will be looking at the command from Matthew 4:17 “Repent” and the Character Quality of MEEKNESS. Come and join us as we study together what it means to love God through keeping this commandment.\nNew families are always welcome! \n“It’s the highlight of my children’s month.” says one mum. \n \nEach Family Day registration start at 9:00am with the program beginning at 9:30am and concludes after a shared lunch at 2:00pm. \nLunch is a BYO picnic due to Covid-19 Restrictions \nPlease contact the main office for more details by emailing info@iblp.org.au\, calling 03 9735 2633\, \nOR \nRegister Here
URL:https://iblp.org.au/event/march-family-day-5/
LOCATION:Kilsyth South Baptist Church\, 382-388 Liverpool Rd\,\, Kilsyth South\, Victoria\, 3137\, Australia
ATTACH;FMTTYPE=image/png:https://iblp.org.au/wp-content/uploads/2021/02/Family-Day-Logo-1-e1612492723528.png
END:VEVENT
END:VCALENDAR