BEGIN:VCALENDAR
VERSION:2.0
PRODID:-//IBLP Australia - ECPv6.15.20//NONSGML v1.0//EN
CALSCALE:GREGORIAN
METHOD:PUBLISH
X-WR-CALNAME:IBLP Australia
X-ORIGINAL-URL:https://iblp.org.au
X-WR-CALDESC:Events for IBLP Australia
REFRESH-INTERVAL;VALUE=DURATION:PT1H
X-Robots-Tag:noindex
X-PUBLISHED-TTL:PT1H
BEGIN:VTIMEZONE
TZID:UTC
BEGIN:STANDARD
TZOFFSETFROM:+0000
TZOFFSETTO:+0000
TZNAME:UTC
DTSTART:20200101T000000
END:STANDARD
END:VTIMEZONE
BEGIN:VEVENT
DTSTART;TZID=UTC:20210121T080000
DTEND;TZID=UTC:20210123T170000
DTSTAMP:20260425T020454
CREATED:20201118T165155Z
LAST-MODIFIED:20201118T165155Z
UID:10000072-1611216000-1611421200@iblp.org.au
SUMMARY:January Online Family Conference
DESCRIPTION:For the ADULTS: on Friday from 7:30 – 9:00 pm (EST) there will be a link to a special page on our website with pre-recorded items from other families\, a message and some sharing from individuals.  We will be watching a pre-recorded message from the USA conferences. Then after the message there will be a link to a Zoom meeting where you can join others in prayer and fellowship.\nOn Saturday from 7:30 – 9:00 pm there will be a fellowship evening. This will be a zoom meeting where we will be going in and out of break out rooms so that you all can fellowship with other attendees\, giving us the opportunity to catch up with each other at the same time as discussing the things we have been learning.\nFor those who might want some technical support we do have people on hand who are willing to assist you should you request aid.\nThose in areas under less restrictions might like to explore the option of getting together with other families and watching together. \nCost: Free for ATI and ATI Associate Families\n$5 for Guest families or Individuals \n\n\n\n\n\n\nThe Pathfinder sessions for the Primary School aged children will be run on Thursday to Saturday from 4:00 – 5:30 pm (EST). They will get to enjoy some of their usual favourite activities like: Stories\, Songs\, Games\, Crafts \, Skits and a whole lot more. These will be similar to the Character Fun Hour that some have already experienced. In addition there will be a craft pack posted out to the children\, so registrations for this event need to be in by January 11th. Any registrations received after this time will incur an additional postage fee\, and come with no guarantees that they will receive the pack in time for the program. \nCost: ATI Families $10 first child\, and $5 each additional child\nGuest Families $15 per child and $10 for each additional child \n\n\n\n\n\n\nThis online conference we will be holding one Student session on the Thursday evening from 7:30-9:30(EST) together on Zoom. We encourage the young people to join in the adult sessions on the other evenings. There will be time for fellowship as well as an encouraging message during our evening together. \nCost: Free for ATI families\n$5 for a Guest family\n\n\n\n\n\n\n\nRegister Here For These Programs
URL:https://iblp.org.au/event/january-online-family-conference/
LOCATION:Victoria
ATTACH;FMTTYPE=image/jpeg:https://iblp.org.au/wp-content/uploads/2020/11/2020-Conferences-Instagram-1-e1605756519925.jpg
END:VEVENT
END:VCALENDAR