BEGIN:VCALENDAR
VERSION:2.0
PRODID:-//IBLP Australia - ECPv6.15.20//NONSGML v1.0//EN
CALSCALE:GREGORIAN
METHOD:PUBLISH
X-WR-CALNAME:IBLP Australia
X-ORIGINAL-URL:https://iblp.org.au
X-WR-CALDESC:Events for IBLP Australia
REFRESH-INTERVAL;VALUE=DURATION:PT1H
X-Robots-Tag:noindex
X-PUBLISHED-TTL:PT1H
BEGIN:VTIMEZONE
TZID:UTC
BEGIN:STANDARD
TZOFFSETFROM:+0000
TZOFFSETTO:+0000
TZNAME:UTC
DTSTART:20190101T000000
END:STANDARD
END:VTIMEZONE
BEGIN:VEVENT
DTSTART;TZID=UTC:20201015T090000
DTEND;TZID=UTC:20201015T140000
DTSTAMP:20260425T020329
CREATED:20191106T125735Z
LAST-MODIFIED:20201008T180412Z
UID:10000065-1602752400-1602770400@iblp.org.au
SUMMARY:October Family Day- Adjourned until we are under Covid Normal conditions
DESCRIPTION:On the third Thursday of every month\, a group of local Christian home-educating families gather to study one of the 49 commands of Christ found in Matthew 5-7 and a corresponding character quality through songs\, skits and stories\, Bible memorisation\, a short lesson\, small group discussions\, craft and practical projects. \nNew families are always welcome! \n \nEach Family Day registration start at 9:00am with the program beginning at 9:30am and concludes after a shared lunch at 2:00pm. \nLunch is available for $3 per person four years old and over (under three years old eat free). A small contribution fee of $6 is taken at the door. \nPlease contact the main office for more details\, or \nRegister Here
URL:https://iblp.org.au/event/october-family-day-4/
LOCATION:4 Haig Rd Mount Evelyn\, 4 Haig Rd\, Mount Everlyn\, Victoria\, 3796\, Australia
ATTACH;FMTTYPE=image/png:https://iblp.org.au/wp-content/uploads/2019/11/Family-Day-is-adjourned-until-we-are-in-Covid-Normal-restrictions..png
END:VEVENT
END:VCALENDAR