BEGIN:VCALENDAR
VERSION:2.0
PRODID:-//IBLP Australia - ECPv6.15.20//NONSGML v1.0//EN
CALSCALE:GREGORIAN
METHOD:PUBLISH
X-WR-CALNAME:IBLP Australia
X-ORIGINAL-URL:https://iblp.org.au
X-WR-CALDESC:Events for IBLP Australia
REFRESH-INTERVAL;VALUE=DURATION:PT1H
X-Robots-Tag:noindex
X-PUBLISHED-TTL:PT1H
BEGIN:VTIMEZONE
TZID:UTC
BEGIN:STANDARD
TZOFFSETFROM:+0000
TZOFFSETTO:+0000
TZNAME:UTC
DTSTART:20180101T000000
END:STANDARD
END:VTIMEZONE
BEGIN:VEVENT
DTSTART;VALUE=DATE:20190308
DTEND;VALUE=DATE:20190312
DTSTAMP:20260425T212207
CREATED:20160824T170033Z
LAST-MODIFIED:20181025T131216Z
UID:10000008-1552003200-1552348799@iblp.org.au
SUMMARY:March Long Weekend Seminars
DESCRIPTION:Over 2.7 million people around the world have been blessed by the biblical principles shared in the Basic\, Advanced\, and Anger Resolution Seminars. The insights presented in these seminars reveal root causes to surface issues that plague our churches\, culture\, and families today. \nOn 8th – 11th of March\, come to Haig Roads beautiful setting in Mount Evelyn\, VIC and understand how these basic principles and their applications in everyday life help lay the foundations for overcoming deep-seated hurts\, breaking financial bondage\, resolving relational conflicts\, and gaining wisdom in all of life’s experiences. Catered meals are available\, making this an ideal weekend retreat for the entire family. \n\nSeminars Available include\n\nBasic\nAdvanced\nFinancial Freedom\nAnger Resolution\nTotal Health\nChildren’s Institute\n\n\n\n\nPricing \nFirst Time attendee\nBasic\, Advanced\, or Financial Freedom $80 inc. Textbook & Workbook (Only $60 if registered before 22 Feb)\nAnger Resolution $50 inc.Workbook (Only $40 if registered before 22 Feb)\nTotal Health $40 \nFirst Time additional family member\nBasic\, Advanced\, or Financial Freedom $50 inc. Workbook (Only $40 if registered before 22 Feb)\nAnger Resolution $50 inc. Workbook (Only $40 if registered before 22 Feb)\nTotal Health $40\n \n \n\nSchedule \nBasic\, Advanced\, & Financial Freedom run all weekend\nAnger Resolution & Total Health run 2 sessions \nSession 1\nFriday 7:00pm-10:00pm\nSaturday 8:30am-9:00pm \nSession 2\nSunday 2:00pm-9:00pm\nMonday 8:30am-5:00pm \n \n \n \nMost seminars are available in English\, Mandarin\, & Cantonese\nMeal bookings close 4th of March \nFree Entry for seminar alumni if registration submitted by 4th of March \nRegister Here\nMeals Here\nFor more information about our seminars and the topics covered\, please click on the Seminars tab above. \n 
URL:https://iblp.org.au/event/march-long-weekend-seminars/
LOCATION:4 Haig Rd Mount Evelyn\, 4 Haig Rd\, Mount Everlyn\, Victoria\, 3796\, Australia
CATEGORIES:Seminars
ATTACH;FMTTYPE=image/jpeg:https://iblp.org.au/wp-content/uploads/2016/06/advanced.jpg
ORGANIZER;CN="IBLP":MAILTO:info@iblp.org,au
END:VEVENT
BEGIN:VEVENT
DTSTART;TZID=UTC:20190321T093000
DTEND;TZID=UTC:20190321T130000
DTSTAMP:20260425T212207
CREATED:20190220T160855Z
LAST-MODIFIED:20190220T160855Z
UID:10000033-1553160600-1553173200@iblp.org.au
SUMMARY:March Family Day
DESCRIPTION:On the third Thursday of every month\, a group of local Christian home-educating families gather to study one of the 49 commands of Christ found in Matthew 5-7 and a corresponding character quality through songs\, skits and stories\, Bible memorisation\, a short lesson\, small group discussions\, craft and practical projects. \nNew families are always welcome! \nEach Family Day registration start at 9:00am with the program beginning at 9:30am and concludes after a shared lunch at 2:00pm. \nLunch is available for $3 per person four years old and over (under three years old eat free). A small contribution fee of $6 is taken at the door. \nPlease contact the main office for more details\, or \nRegister Here
URL:https://iblp.org.au/event/march-family-day-3/
LOCATION:4 Haig Rd Mount Evelyn\, 4 Haig Rd\, Mount Everlyn\, Victoria\, 3796\, Australia
ATTACH;FMTTYPE=image/jpeg:https://iblp.org.au/wp-content/uploads/2017/03/1.jpg
END:VEVENT
END:VCALENDAR