BEGIN:VCALENDAR
VERSION:2.0
PRODID:-//IBLP Australia - ECPv6.15.20//NONSGML v1.0//EN
CALSCALE:GREGORIAN
METHOD:PUBLISH
X-WR-CALNAME:IBLP Australia
X-ORIGINAL-URL:https://iblp.org.au
X-WR-CALDESC:Events for IBLP Australia
REFRESH-INTERVAL;VALUE=DURATION:PT1H
X-Robots-Tag:noindex
X-PUBLISHED-TTL:PT1H
BEGIN:VTIMEZONE
TZID:UTC
BEGIN:STANDARD
TZOFFSETFROM:+0000
TZOFFSETTO:+0000
TZNAME:UTC
DTSTART:20160101T000000
END:STANDARD
END:VTIMEZONE
BEGIN:VTIMEZONE
TZID:Australia/Melbourne
BEGIN:STANDARD
TZOFFSETFROM:+1100
TZOFFSETTO:+1000
TZNAME:AEST
DTSTART:20140405T160000
END:STANDARD
BEGIN:DAYLIGHT
TZOFFSETFROM:+1000
TZOFFSETTO:+1100
TZNAME:AEDT
DTSTART:20141004T160000
END:DAYLIGHT
BEGIN:STANDARD
TZOFFSETFROM:+1100
TZOFFSETTO:+1000
TZNAME:AEST
DTSTART:20150404T160000
END:STANDARD
BEGIN:DAYLIGHT
TZOFFSETFROM:+1000
TZOFFSETTO:+1100
TZNAME:AEDT
DTSTART:20151003T160000
END:DAYLIGHT
BEGIN:STANDARD
TZOFFSETFROM:+1100
TZOFFSETTO:+1000
TZNAME:AEST
DTSTART:20160402T160000
END:STANDARD
BEGIN:DAYLIGHT
TZOFFSETFROM:+1000
TZOFFSETTO:+1100
TZNAME:AEDT
DTSTART:20161001T160000
END:DAYLIGHT
END:VTIMEZONE
BEGIN:VEVENT
DTSTART;TZID=UTC:20170824T090000
DTEND;TZID=UTC:20170824T140000
DTSTAMP:20260426T020140
CREATED:20170329T153037Z
LAST-MODIFIED:20170820T213747Z
UID:10000014-1503565200-1503583200@iblp.org.au
SUMMARY:August Family Day
DESCRIPTION:Usually held on the third Thursday of every month\, a group of local Christian home-educating families gather to study one of the 49 commands of Christ found in Matthew 5-7 and a corresponding character quality through songs\, skits and stories\, Bible memorisation\, a short lesson\, small group discussions\, craft and practical projects. \nNew families are always welcome! \nEach Family Day registration start at 9:00am with the program beginning at 9:30am and concludes after a shared lunch at 2:00pm. \nLunch is available for $3 per person four years old and over (under three years old eat free). A small contribution fee of $6 is taken at the door. \nPlease contact the main office for more details\, or RSVP here https://form.jotformpro.com/70879025264966
URL:https://iblp.org.au/event/august-family-day/
LOCATION:Yarra Training Centre\, 111 Mangans Rd\, Lilydale\, Victoria\, Australia
ATTACH;FMTTYPE=image/jpeg:https://iblp.org.au/wp-content/uploads/2017/03/1.jpg
END:VEVENT
BEGIN:VEVENT
DTSTART;TZID=UTC:20170727T090000
DTEND;TZID=UTC:20170727T140000
DTSTAMP:20260426T020140
CREATED:20170329T152443Z
LAST-MODIFIED:20170719T141612Z
UID:10000013-1501146000-1501164000@iblp.org.au
SUMMARY:July Family Day
DESCRIPTION:Usually on the third Thursday of every month\, a group of local Christian home-educating families gather to study one of the 49 commands of Christ found in Matthew 5-7 and a corresponding character quality through songs\, skits and stories\, Bible memorisation\, a short lesson\, small group discussions\, craft and practical projects. \nNew families are always welcome! \nEach Family Day registration start at 9:00am with the program beginning at 9:30am and concludes after a shared lunch at 2:00pm. \nLunch is available for $3 per person four years old and over (under three years old eat free). A small contribution fee of $6 is taken at the door. \nPlease contact the main office for more details\, or RSVP here https://form.jotformpro.com/70878526450968
URL:https://iblp.org.au/event/july-family-day/
LOCATION:Yarra Training Centre\, 111 Mangans Rd\, Lilydale\, Victoria\, Australia
ATTACH;FMTTYPE=image/jpeg:https://iblp.org.au/wp-content/uploads/2017/03/1.jpg
END:VEVENT
BEGIN:VEVENT
DTSTART;TZID=UTC:20170518T090000
DTEND;TZID=UTC:20170518T140000
DTSTAMP:20260426T020140
CREATED:20170329T141758Z
LAST-MODIFIED:20170329T141758Z
UID:10000012-1495098000-1495116000@iblp.org.au
SUMMARY:May Family Day
DESCRIPTION:On the third Thursday of every month\, a group of local Christian home-educating families gather to study one of the 49 commands of Christ found in Matthew 5-7 and a corresponding character quality through songs\, skits and stories\, Bible memorisation\, a short lesson\, small group discussions\, craft and practical projects. \nNew families are always welcome! \nEach Family Day registration start at 9:00am with the program beginning at 9:30am and concludes after a shared lunch at 2:00pm. \nLunch is available for $3 per person four years old and over (under three years old eat free). A small contribution fee of $6 is taken at the door. \nPlease contact the main office for more details\, or RSVP here https://form.jotformpro.com/70878231168967
URL:https://iblp.org.au/event/may-family-day/
LOCATION:Yarra Training Centre\, 111 Mangans Rd\, Lilydale\, Victoria\, Australia
ATTACH;FMTTYPE=image/jpeg:https://iblp.org.au/wp-content/uploads/2017/03/1.jpg
END:VEVENT
BEGIN:VEVENT
DTSTART;TZID=UTC:20170420T090000
DTEND;TZID=UTC:20170420T140000
DTSTAMP:20260426T020140
CREATED:20170323T150619Z
LAST-MODIFIED:20170329T141911Z
UID:10000011-1492678800-1492696800@iblp.org.au
SUMMARY:April Family Day
DESCRIPTION:On the third Thursday of every month\, a group of local Christian home-educating families gather to study one of the 49 commands of Christ found in Matthew 5-7 and a corresponding character quality through songs\, skits and stories\, Bible memorisation\, a short lesson\, small group discussions\, craft and practical projects. \nNew families are always welcome! \nEach Family Day registration start at 9:00am with the program beginning at 9:30am and concludes after a shared lunch at 2:00pm. \nLunch is available for $3 per person four years old and over (under three years old eat free). A small contribution fee of $6 is taken at the door. \nPlease contact the main office for more details\, or RSVP here https://form.jotformpro.com/70818468673974
URL:https://iblp.org.au/event/april-family-day/
LOCATION:Yarra Training Centre\, 111 Mangans Rd\, Lilydale\, Victoria\, Australia
ATTACH;FMTTYPE=image/jpeg:https://iblp.org.au/wp-content/uploads/2017/03/1.jpg
END:VEVENT
BEGIN:VEVENT
DTSTART;TZID=UTC:20170323T090000
DTEND;TZID=UTC:20170323T140000
DTSTAMP:20260426T020140
CREATED:20170316T174625Z
LAST-MODIFIED:20170316T174625Z
UID:10000010-1490259600-1490277600@iblp.org.au
SUMMARY:March Family Day
DESCRIPTION:On the third Thursday of every month\, a group of local Christian home-educating families gather to study one of the 49 commands of Christ found in Matthew 5-7 and a corresponding character quality through songs\, skits and stories\, Bible memorization\, a short lesson\, small group discussions\, craft and practical projects. \nNew families are always welcome! \nEach Family Day begins at 9:30am with registration starting at 9:00am and concludes after a shared lunch at 1:30pm. \nLunch is available for $3 per person four years old and over (under three years old eat free). A small contribution fee of $6 is taken at the door. \nPlease contact the main office for more details\, or RSVP here https://form.jotform.com/70537187637970
URL:https://iblp.org.au/event/march-family-day/
LOCATION:Victoria
END:VEVENT
BEGIN:VEVENT
DTSTART;VALUE=DATE:20170119
DTEND;VALUE=DATE:20170121
DTSTAMP:20260426T020140
CREATED:20160927T203258Z
LAST-MODIFIED:20161117T150005Z
UID:10000009-1484784000-1484956799@iblp.org.au
SUMMARY:2017 ATI Student Conference
DESCRIPTION:Do you ever struggle with knowing what direction God wants you to take? We all want to do something great. However\, in order to make an impact in the world\, we must be willing to be transformed by the truth of God’s Word and a personal encounter with the Lord Jesus Christ. This year you will hear powerful life-changing messages from God’s Word by a variety of speakers. It is our prayer that you will be challenged to develop deep convictions based upon the Word of God\, become a bold witness to a lost and dying world\, and have a ministry of vital intercessory prayer! The simple truth is that if you walk in the light you already have been given\, you will be given light for the next step. However\, if you fail to receive the light\, you may end up in the dark. \nFor ATI students ages 13 & up\, this year’s student conference will focus on walking in the light to receive direction for life. Life is short. So walk in the light and live for things that count for eternity! \n  \nRegister Here
URL:https://iblp.org.au/event/2017-ati-student-conference/
LOCATION:Yarra Training Centre\, 111 Mangans Rd\, Lilydale\, Victoria\, Australia
ORGANIZER;CN="ATI":MAILTO:info@iblp.org.au
END:VEVENT
BEGIN:VEVENT
DTSTART;VALUE=DATE:20170115
DTEND;VALUE=DATE:20170119
DTSTAMP:20260426T020140
CREATED:20160810T204250Z
LAST-MODIFIED:20170329T134557Z
UID:10000007-1484438400-1484783999@iblp.org.au
SUMMARY:2017 Annual Family Conference
DESCRIPTION:God’s Word abounds with teaching on light. In the beginning\, God said\, “Let there be light.” Jesus said “I must work the works of Him that sent me\, while it is day: the night cometh\, when no man can work” (John 9:4). As Christ’s followers\, we are described as “the light of the world” (Matthew 5:14). Come together with like-minded families at the 2017 Annual  Conference to explore the importance of “Walking in the Light”. \nSpecial guests Gil & Kelly Bates and David Waller & family will share with us about what it means to make God’s Word a lamp unto our feet and a light unto our path. \nMake sure to pencil the dates into your calendar and get ready for an exciting time of fellowship and encouragement as we all seek to walk in the light together! \nConference Schedule \nSunday 15th 7pm – 9:30pm \nMonday 16th & Tuesday 17th 9am – 9:30pm \nWednesday 18th 9am-5:30pm \n  \nFor more information and pricing download the2017 Family Conference Guide \nRegister Here
URL:https://iblp.org.au/event/2017-annual-family-conference/
LOCATION:Yarra Training Centre\, 111 Mangans Rd\, Lilydale\, Victoria\, Australia
CATEGORIES:ATI Events
ORGANIZER;CN="ATI":MAILTO:info@iblp.org.au
END:VEVENT
BEGIN:VEVENT
DTSTART;VALUE=DATE:20150606
DTEND;VALUE=DATE:20150610
DTSTAMP:20260426T020140
CREATED:20150224T054800Z
LAST-MODIFIED:20150224T055106Z
UID:10000138-1433548800-1433894399@iblp.org.au
SUMMARY:Lilydale\, VIC
DESCRIPTION:All Seminars
URL:https://iblp.org.au/event/lilydale-vic/
LOCATION:Yarra Training Centre\, 111 Mangans Rd\, Lilydale\, Victoria\, Australia
ATTACH;FMTTYPE=image/jpeg:https://iblp.org.au/wp-content/uploads/2015/02/tree-lake.jpg
END:VEVENT
END:VCALENDAR