BEGIN:VCALENDAR
VERSION:2.0
PRODID:-//IBLP Australia - ECPv6.15.20//NONSGML v1.0//EN
CALSCALE:GREGORIAN
METHOD:PUBLISH
X-WR-CALNAME:IBLP Australia
X-ORIGINAL-URL:https://iblp.org.au
X-WR-CALDESC:Events for IBLP Australia
REFRESH-INTERVAL;VALUE=DURATION:PT1H
X-Robots-Tag:noindex
X-PUBLISHED-TTL:PT1H
BEGIN:VTIMEZONE
TZID:Australia/Melbourne
BEGIN:STANDARD
TZOFFSETFROM:+1100
TZOFFSETTO:+1000
TZNAME:AEST
DTSTART:20250405T160000
END:STANDARD
BEGIN:DAYLIGHT
TZOFFSETFROM:+1000
TZOFFSETTO:+1100
TZNAME:AEDT
DTSTART:20251004T160000
END:DAYLIGHT
BEGIN:STANDARD
TZOFFSETFROM:+1100
TZOFFSETTO:+1000
TZNAME:AEST
DTSTART:20260404T160000
END:STANDARD
BEGIN:DAYLIGHT
TZOFFSETFROM:+1000
TZOFFSETTO:+1100
TZNAME:AEDT
DTSTART:20261003T160000
END:DAYLIGHT
BEGIN:STANDARD
TZOFFSETFROM:+1100
TZOFFSETTO:+1000
TZNAME:AEST
DTSTART:20270403T160000
END:STANDARD
BEGIN:DAYLIGHT
TZOFFSETFROM:+1000
TZOFFSETTO:+1100
TZNAME:AEDT
DTSTART:20271002T160000
END:DAYLIGHT
END:VTIMEZONE
BEGIN:VEVENT
DTSTART;TZID=Australia/Melbourne:20260716T090000
DTEND;TZID=Australia/Melbourne:20260716T160000
DTSTAMP:20260424T082232
CREATED:20251106T224725Z
LAST-MODIFIED:20260219T043453Z
UID:10000131-1784192400-1784217600@iblp.org.au
SUMMARY:July Family Day 2026
DESCRIPTION:“If you love me\, keep my commandments.” John 14:15\nUsually on the third Thursday of the month\, a group of local Christian home-educating families gather to discover more about one of the 49 commands of Christ found in Matthew 5-7 and a corresponding character quality through songs\, skits and stories\, Bible memorisation\, a short lesson\, small group discussions\, craft and practical projects. \nThis month we will be looking at the command LOVE YOUR NEIGHBOUR from Matthew 22:39-40 and the Character Quality of GENTLENESS. Come and join us as we study together what it means to love God through keeping this commandment.\nNew families are always welcome! \n“It’s the highlight of my children’s month” says one mum. \n \nEach Family Day registration start at 9:00am with the program beginning at 9:30am and concludes after a shared lunch at 2:00pm\, though many stay on to fellowship well into the afternoon. \nLunch is $3 a head for a sausage sizzle. \nPlease contact the main office for more details by emailing info@iblp.org.au\, calling 03 9735 2633\, \nOR \nRegister Here
URL:https://iblp.org.au/event/july-family-day-2026/
LOCATION:4 Haig Rd Mount Evelyn\, 4 Haig Rd\, Mount Everlyn\, Victoria\, 3796\, Australia
ATTACH;FMTTYPE=image/png:https://iblp.org.au/wp-content/uploads/2026/02/Copy-of-Family-Day-Logo.png
END:VEVENT
BEGIN:VEVENT
DTSTART;TZID=Australia/Melbourne:20260801T090000
DTEND;TZID=Australia/Melbourne:20260801T170000
DTSTAMP:20260424T082232
CREATED:20251106T231512Z
LAST-MODIFIED:20251106T234212Z
UID:10000135-1785574800-1785603600@iblp.org.au
SUMMARY:ATI Scripture Memory Bee 2026
DESCRIPTION:Fire\, it is a source of warmth\, comfort and sustenance. Yet is is also a source of refining and consuming. God says His word is a fire. \n“Is not my word like as a fire? saith the Lord; and like a hammer that breaketh the rock in pieces?” Jeremiah 23:29 \nIt is also a hammer breaking rocks to pieces. Breaking up the hard and stony ground of our hearts and refining us. \nThe Scripture Memory Bees are a wonderful experience for all to attend. For those who are memorizing\, this day provides an opportunity to share what they’ve been working on and bless others as they hear the Word. For those who want encouragement to memorize or to encourage their families\, this is a day for them to see the example set for them and be encouraged by the refining power of the Word of God. \nThere are a variety of activities throughout the day as well as time spent being refreshed by those quoting their memorized verses. This means that even if you have children who have not memorized there will be activities they can participate in. Other activities include: Verse Scavenger Hunt\, Scripture in Song \, and Bible quizzes and competitions. This day is one of our favourites each year and we hope that you will be able to join us and experience for yourselves the blessing of a day where your heart is warmed\, comforted\, refined and any hardness broken by the fire and the hammer of God’s word. \nOnce you register\, you will be contacted by us to submit the verses/chapters/books that you have memorized and the version you memorized in. Then we will prepare to test you on the day\, by having you recite your passage(s) while we all look on and see how accurate you can be.  Scoring in based on the number of verses accurately recited. Competition Categories you can enter are as follows: Preschool\, Ages 6-10\, Ages 11-16\, Ages 17+ and Families. \nWe have the wonderful problem of having so many reciting to fit into the day\, so we have had to bring in a time limit to each category so that we can make sure we have time for all the sharing.  Here are the time limitations for each category: \nPreschool – 5 minutes\nAges 6-10 – 15 minutes\nAges 11-16 – 20 minutes\nAges 17+ -25 minutes\nFamilies – 10 minutes\nWhere: 4 Haig Rd Mount Evelyn VIC 3796 \nCost: $35 ATI Family or $45 for a non-ATI family\, $15 for an individual (or $20 for ATI Families who do not want to enter the reciting and $25 for non-ATI Families who do not want to enter the reciting) \nLunch of soup and rolls is available for $3 per person. \nREGISTER HERE \n  \n 
URL:https://iblp.org.au/event/ati-scripture-memory-bee-2026/
LOCATION:4 Haig Rd Mount Evelyn\, 4 Haig Rd\, Mount Everlyn\, Victoria\, 3796\, Australia
ATTACH;FMTTYPE=image/png:https://iblp.org.au/wp-content/uploads/2025/11/Memory-Bee-Logo-2026.png
END:VEVENT
BEGIN:VEVENT
DTSTART;TZID=Australia/Melbourne:20260820T090000
DTEND;TZID=Australia/Melbourne:20260820T160000
DTSTAMP:20260424T082232
CREATED:20251106T225014Z
LAST-MODIFIED:20260219T043516Z
UID:10000132-1787216400-1787241600@iblp.org.au
SUMMARY:August Family Day 2026
DESCRIPTION:“If you love me\, keep my commandments.” John 14:15\nUsually on the third Thursday of the month\, a group of local Christian home-educating families gather to discover more about one of the 49 commands of Christ found in Matthew 5-7 and a corresponding character quality through songs\, skits and stories\, Bible memorisation\, a short lesson\, small group discussions\, craft and practical projects. \nThis month we will be looking at the command AWAIT MY RETURN from Matthew 24:42-44 and the Character Quality of PUNCTUALITY. Come and join us as we study together what it means to love God through keeping this commandment.\nNew families are always welcome! \n“It’s the highlight of my children’s month” says one mum. \n \nEach Family Day registration start at 9:00am with the program beginning at 9:30am and concludes after a shared lunch at 2:00pm\, though many stay on to fellowship well into the afternoon. \nLunch is $3 a head for a sausage sizzle. \nPlease contact the main office for more details by emailing info@iblp.org.au\, calling 03 9735 2633\, \nOR \nRegister Here
URL:https://iblp.org.au/event/august-family-day-2026/
LOCATION:4 Haig Rd Mount Evelyn\, 4 Haig Rd\, Mount Everlyn\, Victoria\, 3796\, Australia
ATTACH;FMTTYPE=image/png:https://iblp.org.au/wp-content/uploads/2026/02/Copy-of-Family-Day-Logo.png
END:VEVENT
BEGIN:VEVENT
DTSTART;VALUE=DATE:20260905
DTEND;VALUE=DATE:20260906
DTSTAMP:20260424T082232
CREATED:20260205T062540Z
LAST-MODIFIED:20260206T003521Z
UID:10000136-1788566400-1788652799@iblp.org.au
SUMMARY:Family Connect Conference 2026
DESCRIPTION:Register Here
URL:https://iblp.org.au/event/family-connect-conference-2026/
LOCATION:4 Haig Rd Mount Evelyn\, 4 Haig Rd\, Mount Everlyn\, Victoria\, 3796\, Australia
ATTACH;FMTTYPE=image/png:https://iblp.org.au/wp-content/uploads/2026/02/FCC-2026-image-e1770272705778.png
END:VEVENT
BEGIN:VEVENT
DTSTART;TZID=Australia/Melbourne:20261015T090000
DTEND;TZID=Australia/Melbourne:20261015T160000
DTSTAMP:20260424T082232
CREATED:20251106T225342Z
LAST-MODIFIED:20260219T043537Z
UID:10000133-1792054800-1792080000@iblp.org.au
SUMMARY:October Family Day 2026
DESCRIPTION:“If you love me\, keep my commandments.” John 14:15\nUsually on the third Thursday of the month\, a group of local Christian home-educating families gather to discover more about one of the 49 commands of Christ found in Matthew 5-7 and a corresponding character quality through songs\, skits and stories\, Bible memorisation\, a short lesson\, small group discussions\, craft and practical projects. \nThis month we will be looking at the command TAKE\, EAT\, AND DRINK from Matthew 26:26-27 and the Character Quality of THOROUGHNESS. Come and join us as we study together what it means to love God through keeping this commandment.\nNew families are always welcome! \n“It’s the highlight of my children’s month” says one mum. \n \nEach Family Day registration start at 9:00am with the program beginning at 9:30am and concludes after a shared lunch at 2:00pm\, though many stay on to fellowship well into the afternoon. \nLunch is $3 a head for a sausage sizzle. \nPlease contact the main office for more details by emailing info@iblp.org.au\, calling 03 9735 2633\, \nOR \nRegister Here
URL:https://iblp.org.au/event/october-family-day-2026/
LOCATION:4 Haig Rd Mount Evelyn\, 4 Haig Rd\, Mount Everlyn\, Victoria\, 3796\, Australia
ATTACH;FMTTYPE=image/png:https://iblp.org.au/wp-content/uploads/2026/02/Copy-of-Family-Day-Logo.png
END:VEVENT
BEGIN:VEVENT
DTSTART;TZID=Australia/Melbourne:20261119T090000
DTEND;TZID=Australia/Melbourne:20261119T160000
DTSTAMP:20260424T082232
CREATED:20251106T225743Z
LAST-MODIFIED:20260219T043604Z
UID:10000134-1795078800-1795104000@iblp.org.au
SUMMARY:November Family Day 2026
DESCRIPTION:“If you love me\, keep my commandments.” John 14:15\nUsually on the third Thursday of the month\, a group of local Christian home-educating families gather to discover more about one of the 49 commands of Christ found in Matthew 5-7 and a corresponding character quality through songs\, skits and stories\, Bible memorisation\, a short lesson\, small group discussions\, craft and practical projects. \nThis month we will be looking at the command BE BORN AGAIN from John 3:7 and the Character Quality of SECURITY. Come and join us as we study together what it means to love God through keeping this commandment.\nNew families are always welcome! \n“It’s the highlight of my children’s month” says one mum. \n \nEach Family Day registration start at 9:00am with the program beginning at 9:30am and concludes after a shared lunch at 2:00pm\, though many stay on to fellowship well into the afternoon. \nLunch is $3 a head for a sausage sizzle. \nAlso available on this last Family Day of the year is our annual gingerbread house decorating in the afternoon. The kits are available for $25 per kit and come with all you need to construct and decorate. Please indicate on the form how many houses you would like to construct. Payment is made on the day. \nPlease contact the main office for more details by emailing info@iblp.org.au\, calling 03 9735 2633\, \nOR \nRegister Here
URL:https://iblp.org.au/event/november-family-day-2026/
LOCATION:4 Haig Rd Mount Evelyn\, 4 Haig Rd\, Mount Everlyn\, Victoria\, 3796\, Australia
ATTACH;FMTTYPE=image/png:https://iblp.org.au/wp-content/uploads/2026/02/Copy-of-Family-Day-Logo.png
END:VEVENT
END:VCALENDAR