BEGIN:VCALENDAR
VERSION:2.0
PRODID:-//IBLP Australia - ECPv6.15.20//NONSGML v1.0//EN
CALSCALE:GREGORIAN
METHOD:PUBLISH
X-WR-CALNAME:IBLP Australia
X-ORIGINAL-URL:https://iblp.org.au
X-WR-CALDESC:Events for IBLP Australia
REFRESH-INTERVAL;VALUE=DURATION:PT1H
X-Robots-Tag:noindex
X-PUBLISHED-TTL:PT1H
BEGIN:VTIMEZONE
TZID:Australia/Melbourne
BEGIN:STANDARD
TZOFFSETFROM:+1100
TZOFFSETTO:+1000
TZNAME:AEST
DTSTART:20200404T160000
END:STANDARD
BEGIN:DAYLIGHT
TZOFFSETFROM:+1000
TZOFFSETTO:+1100
TZNAME:AEDT
DTSTART:20201003T160000
END:DAYLIGHT
BEGIN:STANDARD
TZOFFSETFROM:+1100
TZOFFSETTO:+1000
TZNAME:AEST
DTSTART:20210403T160000
END:STANDARD
BEGIN:DAYLIGHT
TZOFFSETFROM:+1000
TZOFFSETTO:+1100
TZNAME:AEDT
DTSTART:20211002T160000
END:DAYLIGHT
BEGIN:STANDARD
TZOFFSETFROM:+1100
TZOFFSETTO:+1000
TZNAME:AEST
DTSTART:20220402T160000
END:STANDARD
BEGIN:DAYLIGHT
TZOFFSETFROM:+1000
TZOFFSETTO:+1100
TZNAME:AEDT
DTSTART:20221001T160000
END:DAYLIGHT
END:VTIMEZONE
BEGIN:VTIMEZONE
TZID:UTC
BEGIN:STANDARD
TZOFFSETFROM:+0000
TZOFFSETTO:+0000
TZNAME:UTC
DTSTART:20160101T000000
END:STANDARD
END:VTIMEZONE
BEGIN:VEVENT
DTSTART;TZID=Australia/Melbourne:20210702T140000
DTEND;TZID=Australia/Melbourne:20210702T213000
DTSTAMP:20260425T021013
CREATED:20210611T062838Z
LAST-MODIFIED:20210623T030629Z
UID:10000076-1625234400-1625261400@iblp.org.au
SUMMARY:Online Family Get-Together
DESCRIPTION:We thank the Lord for His provision of a silver lining to the decision to cancel our Family Conference for late June. We will now be hosting an online get-together on Friday the 2nd!\nThere are three sessions on offer and all for FREE for ATI Families or $5 for all three sessions for a guest family! \nSessions on offer: \n\n2:00PM – 3:30PM Advanced Training Institute (ATI) Interest Session for those interested in exploring joining ATI. This session will be run by Rod Evans\, our director of ministries and an ATI dad with many years experience. This session is for those curious about what ATI is really about and how the Wisdom Booklets work as a curriculum.\n4:00PM – 5:00PM How to Write Your School Year Plan Using the Wisdom Booklets. This is a session to enable all home-schooling families to be able to write up their school year plan for each child\, especially in regards to the Wisdom Booklets.  Anita Reynolds and Glenda Boissevain will be happy to answer questions and explore ideas together with you. Together they have many years experience in using the ATI material and have just recently been working on an outline to aid families in forming a year plan from the Wisdom Booklets that covers all the 8 key learning areas the government is requiring.\n7:00PM – 9:30PM Evening Session with Kevin Currell. Kevin Currell is the current Principle of the Victorian Baptist Bible College\, and loves to share his extensive knowledge of Bible lands and customs. We look forward to his entertaining teaching style\, which makes his messages enjoyable for all ages. We will follow the session with times of fellowship and prayer\, so that we can all have a chance to share and be encouraged by our friends.\n\nAll the sessions will be run via Zoom so you should be able to not only see the speaker/facilitator\, but also catch up with the others attending. Details for the Zoom sessions will be sent out in the days beforehand to those who register for the sessions. \n  \nWe hope that you will be able to join us at this online event\, so that we can ‘see’ each other even if not in person. \nRegister Here
URL:https://iblp.org.au/event/online-family-get-together/
CATEGORIES:ATI Events
ATTACH;FMTTYPE=image/jpeg:https://iblp.org.au/wp-content/uploads/2021/06/images.jpg
END:VEVENT
BEGIN:VEVENT
DTSTART;TZID=UTC:20170922T190000
DTEND;TZID=UTC:20170923T180000
DTSTAMP:20260425T021013
CREATED:20160601T205201Z
LAST-MODIFIED:20170920T133124Z
UID:10000005-1506106800-1506189600@iblp.org.au
SUMMARY:Melbourne Regional Family Conference
DESCRIPTION:  \nWe are thrilled to be able to welcome back Norm and Alma Wakefield. Norm will be our main speaker\, and we are looking forward to what he will have to share with us.  We will also have other people from local families sharing with us. Please join us for this blessed time of fellowship. \nDate \n22nd – 23rd of September \nVenue \nYarra Training Centre\n111 Mangans Rd\, Lilydale VIC 3140 \nSchedule\nFriday: 7:00-9:00pm\nSaturday: 9:00am\, ending with a fellowship dinner at 6:00pm \nChildren and Young Peoples’ Programs \nThe children’s program  is a fun time of fellowship where the children will be taught what it means to be a soldier of Christ. For children ages 5-12. Runs Friday evening and all day Saturday. \nThe young peoples’ program is a specifically designed program for the young people aged 13-14. During this time they will be able to interact with other young people their age and learn valuable skills in serving and leadership. Runs Friday evening and all day Saturday. \n\n 
URL:https://iblp.org.au/event/regional-family-conference-melbourne/
LOCATION:Yarra Training Centre\, 111 Mangans Rd\, Lilydale\, Victoria\, Australia
CATEGORIES:ATI Events
ATTACH;FMTTYPE=image/png:https://iblp.org.au/wp-content/uploads/2016/07/For-Website-e1498187715669.png
ORGANIZER;CN="ATI":MAILTO:info@iblp.org.au
END:VEVENT
BEGIN:VEVENT
DTSTART;VALUE=DATE:20170115
DTEND;VALUE=DATE:20170119
DTSTAMP:20260425T021013
CREATED:20160810T204250Z
LAST-MODIFIED:20170329T134557Z
UID:10000007-1484438400-1484783999@iblp.org.au
SUMMARY:2017 Annual Family Conference
DESCRIPTION:God’s Word abounds with teaching on light. In the beginning\, God said\, “Let there be light.” Jesus said “I must work the works of Him that sent me\, while it is day: the night cometh\, when no man can work” (John 9:4). As Christ’s followers\, we are described as “the light of the world” (Matthew 5:14). Come together with like-minded families at the 2017 Annual  Conference to explore the importance of “Walking in the Light”. \nSpecial guests Gil & Kelly Bates and David Waller & family will share with us about what it means to make God’s Word a lamp unto our feet and a light unto our path. \nMake sure to pencil the dates into your calendar and get ready for an exciting time of fellowship and encouragement as we all seek to walk in the light together! \nConference Schedule \nSunday 15th 7pm – 9:30pm \nMonday 16th & Tuesday 17th 9am – 9:30pm \nWednesday 18th 9am-5:30pm \n  \nFor more information and pricing download the2017 Family Conference Guide \nRegister Here
URL:https://iblp.org.au/event/2017-annual-family-conference/
LOCATION:Yarra Training Centre\, 111 Mangans Rd\, Lilydale\, Victoria\, Australia
CATEGORIES:ATI Events
ORGANIZER;CN="ATI":MAILTO:info@iblp.org.au
END:VEVENT
END:VCALENDAR