BEGIN:VCALENDAR
VERSION:2.0
PRODID:-//IBLP Australia - ECPv5.0.1//NONSGML v1.0//EN
CALSCALE:GREGORIAN
METHOD:PUBLISH
X-WR-CALNAME:IBLP Australia
X-ORIGINAL-URL:https://iblp.org.au
X-WR-CALDESC:Events for IBLP Australia
BEGIN:VTIMEZONE
TZID:UTC
BEGIN:STANDARD
TZOFFSETFROM:+0000
TZOFFSETTO:+0000
TZNAME:UTC
DTSTART:20200101T000000
END:STANDARD
END:VTIMEZONE
BEGIN:VEVENT
DTSTART;TZID=UTC:20200116T093000
DTEND;TZID=UTC:20200117T170000
DTSTAMP:20200228T072156
CREATED:20191003T053214Z
LAST-MODIFIED:20191024T020931Z
UID:1085-1579167000-1579280400@iblp.org.au
SUMMARY:Student Conference 2020
DESCRIPTION:Have you ever wondered if it is really worth being fully dedicated to following God?  Are His ways really best\, or would it be better to take an easier route that does not require so much sacrifice?\nThis year at Student conference we want to look at this promise of God’s that as we follow His ways there is a Future Hope for us and that Hope  will not be cut off. \nGabriel and Sara Cleator will be coming from the US to run our student conference again.  They were such a blessing to us last year and we look forward to seeing what the Lord has given them to share with us again this year. \nPastor Neil Smith will also be giving us some live sessions. \nSo join us for the fellowship\, fun and inspiration to your faith that is STUDENT CONFERENCE!\n  \nRegister Here\n
URL:https://iblp.org.au/event/student-conference-2020/
LOCATION:Kilsyth South Baptist Church\, 382-388 Liverpool Rd\,\, Kilsyth South\, Victoria\, 3137\, Australia
ATTACH;FMTTYPE=image/jpeg:https://iblp.org.au/wp-content/uploads/2019/10/DB906A0V0AELafN.jpg
END:VEVENT
END:VCALENDAR