BEGIN:VCALENDAR
VERSION:2.0
PRODID:-//IBLP Australia - ECPv6.15.20//NONSGML v1.0//EN
CALSCALE:GREGORIAN
METHOD:PUBLISH
X-WR-CALNAME:IBLP Australia
X-ORIGINAL-URL:https://iblp.org.au
X-WR-CALDESC:Events for IBLP Australia
REFRESH-INTERVAL;VALUE=DURATION:PT1H
X-Robots-Tag:noindex
X-PUBLISHED-TTL:PT1H
BEGIN:VTIMEZONE
TZID:UTC
BEGIN:STANDARD
TZOFFSETFROM:+0000
TZOFFSETTO:+0000
TZNAME:UTC
DTSTART:20180101T000000
END:STANDARD
END:VTIMEZONE
BEGIN:VEVENT
DTSTART;TZID=UTC:20190131T090000
DTEND;TZID=UTC:20190201T170000
DTSTAMP:20260425T003829
CREATED:20181024T165752Z
LAST-MODIFIED:20181025T140416Z
UID:836-1548925200-1549040400@iblp.org.au
SUMMARY:Student Conference 2019
DESCRIPTION:This year we are very excited to announce that Gabriel Cleator and his wife Sara will be running our ATI Student Conference. \n \n“God wants us to trust Him wholeheartedly\, but it is very difficult to trust someone you don’t know very well.” Sharing from Scripture and life experiences\, Gabriel shows how knowing God more wholly leads to trusting God more fully. His exuberant joy comes from the Lord\, and his earnest desire is to encourage others in their spiritual walks. Speaking from lessons the Lord has taught him this year from Isaiah 55\, Gabriel is eager to encourage all who attend to “Seek Ye the Lord.” \nThis year our student conference will be held at a new venue Lilydale Baptist Church. Less than 5 min away from Haig Rd\, and near Lilydale Lake\, this venue will provide us with a central location in which to meet. \nLunches and dinners will be provided. Accommodation is not included\, if you need assistance with arranging accommodation for this event please email us at info@iblp.org.au. \nCost: $50 per student \nRegister here\n 
URL:https://iblp.org.au/event/student-conference-2019/
LOCATION:Lilydale Baptist Church\, 305 Swansea Rd\, lilydale\, Victoria\, 3140\, Australia
ATTACH;FMTTYPE=image/png:https://iblp.org.au/wp-content/uploads/2018/10/FB-Student-Conference.png
ORGANIZER;CN="ATI":MAILTO:info@iblp.org.au
END:VEVENT
END:VCALENDAR