BEGIN:VCALENDAR
VERSION:2.0
PRODID:-//IBLP Australia - ECPv6.15.20//NONSGML v1.0//EN
CALSCALE:GREGORIAN
METHOD:PUBLISH
X-WR-CALNAME:IBLP Australia
X-ORIGINAL-URL:https://iblp.org.au
X-WR-CALDESC:Events for IBLP Australia
REFRESH-INTERVAL;VALUE=DURATION:PT1H
X-Robots-Tag:noindex
X-PUBLISHED-TTL:PT1H
BEGIN:VTIMEZONE
TZID:UTC
BEGIN:STANDARD
TZOFFSETFROM:+0000
TZOFFSETTO:+0000
TZNAME:UTC
DTSTART:20180101T000000
END:STANDARD
END:VTIMEZONE
BEGIN:VEVENT
DTSTART;TZID=UTC:20190913T190000
DTEND;TZID=UTC:20190914T180000
DTSTAMP:20260425T001732
CREATED:20190424T210502Z
LAST-MODIFIED:20190812T163545Z
UID:947-1568401200-1568484000@iblp.org.au
SUMMARY:Regional Family Conference
DESCRIPTION:Join us for our 2019 Regional Family Conference.\nEach year those who are able to attend are blessed with encouraging fellowship and challenging messages. \nWith sessions from Steve and Megan Scheibner\, Dean Miller\, Darren Myers and others\, we anticipate an amazing time of growing together and being invigorated as the truth sets us free. \nThere will be both the children’s program (ages 5-12) and Innovators (ages 13-14) to strengthen the young people. \nCost: Free for ATI families\, $30 for partial ATI members\, $50 for Guest families \nTime: Friday the 13th at 7pm – 9pm \nSaturday the 14th 9am- 6pm dinner \nLocation: Kilsyth South Baptist Church \nFor more information contact us  via email at info@iblp.org.au or call us on 0499 974 876. \nTo Register click on the link below. \nRegister Here
URL:https://iblp.org.au/event/regional-family-conference/
ATTACH;FMTTYPE=image/png:https://iblp.org.au/wp-content/uploads/2019/04/the-truth-will-set-you-free_-2.png
END:VEVENT
END:VCALENDAR