BEGIN:VCALENDAR
VERSION:2.0
PRODID:-//IBLP Australia - ECPv6.15.20//NONSGML v1.0//EN
CALSCALE:GREGORIAN
METHOD:PUBLISH
X-WR-CALNAME:IBLP Australia
X-ORIGINAL-URL:https://iblp.org.au
X-WR-CALDESC:Events for IBLP Australia
REFRESH-INTERVAL;VALUE=DURATION:PT1H
X-Robots-Tag:noindex
X-PUBLISHED-TTL:PT1H
BEGIN:VTIMEZONE
TZID:UTC
BEGIN:STANDARD
TZOFFSETFROM:+0000
TZOFFSETTO:+0000
TZNAME:UTC
DTSTART:20180101T000000
END:STANDARD
END:VTIMEZONE
BEGIN:VEVENT
DTSTART;TZID=UTC:20190202T160000
DTEND;TZID=UTC:20190207T200000
DTSTAMP:20260425T004355
CREATED:20181018T120925Z
LAST-MODIFIED:20190107T112106Z
UID:802-1549123200-1549569600@iblp.org.au
SUMMARY:Journey to the Heart 2019
DESCRIPTION:Journey is a five day\, casual\, retreat-style setting where you’ll be given the gift of time to seek the Lord along with your fellow “Journey-ers”.\nDuring the Saturday Afternoon to Thursday Evening program all will be able to experience the following: \n                                                                                       \nPersonal Time with God                                                                             Team Discussions                                                                   Focused Sessions \nSeek the heart of the Savior\,                                                          Be challenged and encouraged through                                       Learn from godly men and women\nby spending One on one time with Him\,                                    discussion and fellowship with other believers                             who have experienced God’s transforming\nlearning to know Who He really is.                                               as you examine where your own heart lies.                                          power in their own lives. \n  \nGabriel Cleator\, director of Journey to the Heart in America\, will be running the Guys Jouney along with 2 other young men from America and some Aussie leaders as well. The Guys Journey will be held at the Reformed Presbyterian Church Campsite in Dixon Creek VIC. \nSara Cleator will be running the Girls Journey along with 2 other young ladies from America and some Aussie leaders as well. The Girls Journey will be run on our lovely centre at Haig Road\, Mount Evelyn VIC. \nWhat past ‘Jouney-ers’ have said about their experiences: \n“I am so glad that I came to Journey. The Lord showed me how much He loves me and how truly good He is. His ways are so perfect\, and so much better than mine. I think it truly was the best week of my life.” \n“‘Journey’ gave me a greater understanding and desire for prayer\, a time of conversing with the God of the whole universe. If you ever get the opportunity to attend a ‘Journey’\, it is a MUST\, the time there really builds you up on Christ and how important you are to him\, it is something that you will not regret and you will take things away that will help you for the rest of your life.” \n“By spending so much time doing almost nothing but being saturated in God’s living word\, I was able to know His presence in a way far deeper than I’d ever experienced before. Life just got so much more exciting!” \nAges: 13- 30 \nCost (includes meals and accommodation): $200 for ATI Students  OR   $250 for Non ATI Students \nDress code: Young men casual\, neat attire (including jeans and polos). Girls skirts and casual neat attire. \nFor more information please feel free to contact our office at info@iblp.org.au. \nGirls Register Here\nGuys Register Here
URL:https://iblp.org.au/event/journey-to-the-heart-2019/
ATTACH;FMTTYPE=image/jpeg:https://iblp.org.au/wp-content/uploads/2018/10/journey.jpg
END:VEVENT
END:VCALENDAR