BEGIN:VCALENDAR
VERSION:2.0
PRODID:-//IBLP Australia - ECPv6.15.20//NONSGML v1.0//EN
CALSCALE:GREGORIAN
METHOD:PUBLISH
X-WR-CALNAME:IBLP Australia
X-ORIGINAL-URL:https://iblp.org.au
X-WR-CALDESC:Events for IBLP Australia
REFRESH-INTERVAL;VALUE=DURATION:PT1H
X-Robots-Tag:noindex
X-PUBLISHED-TTL:PT1H
BEGIN:VTIMEZONE
TZID:UTC
BEGIN:STANDARD
TZOFFSETFROM:+0000
TZOFFSETTO:+0000
TZNAME:UTC
DTSTART:20170101T000000
END:STANDARD
END:VTIMEZONE
BEGIN:VEVENT
DTSTART;TZID=UTC:20180607T080000
DTEND;TZID=UTC:20180713T170000
DTSTAMP:20260425T002845
CREATED:20180606T174221Z
LAST-MODIFIED:20180606T174312Z
UID:730-1528358400-1531501200@iblp.org.au
SUMMARY:Family Day
DESCRIPTION:Usually held on the third Thursday of every month\, a group of local Christian home-educating families gather to study one of the 49 commands of Christ found in Matthew 5-7 and a corresponding character quality through songs\, skits and stories\, Bible memorisation\, a short lesson\, small group discussions\, craft and practical projects. \nFamily days are on hold as we move from the Yarra Training Centre. \nFor more information or to be added to the Family Day contact list please email us at info@iblp.org.au.
URL:https://iblp.org.au/event/family-day/
ATTACH;FMTTYPE=image/jpeg:https://iblp.org.au/wp-content/uploads/2017/03/1.jpg
END:VEVENT
END:VCALENDAR