BEGIN:VCALENDAR
VERSION:2.0
PRODID:-//IBLP Australia - ECPv6.15.20//NONSGML v1.0//EN
CALSCALE:GREGORIAN
METHOD:PUBLISH
X-WR-CALNAME:IBLP Australia
X-ORIGINAL-URL:https://iblp.org.au
X-WR-CALDESC:Events for IBLP Australia
REFRESH-INTERVAL;VALUE=DURATION:PT1H
X-Robots-Tag:noindex
X-PUBLISHED-TTL:PT1H
BEGIN:VTIMEZONE
TZID:UTC
BEGIN:STANDARD
TZOFFSETFROM:+0000
TZOFFSETTO:+0000
TZNAME:UTC
DTSTART:20170101T000000
END:STANDARD
END:VTIMEZONE
BEGIN:VEVENT
DTSTART;TZID=UTC:20180419T090000
DTEND;TZID=UTC:20180419T170000
DTSTAMP:20260425T003245
CREATED:20171208T123832Z
LAST-MODIFIED:20180314T113228Z
UID:673-1524128400-1524157200@iblp.org.au
SUMMARY:April Family Day
DESCRIPTION:On the third Thursday of every month\, a group of local Christian home-educating families gather to study one of the 49 commands of Christ found in Matthew 5-7 and a corresponding character quality through songs\, skits and stories\, Bible memorisation\, a short lesson\, small group discussions\, craft and practical projects. \nNew families are always welcome! \nEach Family Day registration start at 9:00am with the program beginning at 9:30am and concludes after a shared lunch at 2:00pm. \nLunch is available for $3 per person four years old and over (under three years old eat free). A small contribution fee of $6 is taken at the door. \nPlease contact the main office for more details\, or \nRegister Here
URL:https://iblp.org.au/event/april-family-day-2/
LOCATION:Yarra Training Centre\, 111 Mangans Rd\, Lilydale\, Victoria\, Australia
ATTACH;FMTTYPE=image/jpeg:https://iblp.org.au/wp-content/uploads/2017/03/1.jpg
END:VEVENT
END:VCALENDAR