BEGIN:VCALENDAR
VERSION:2.0
PRODID:-//IBLP Australia - ECPv6.15.20//NONSGML v1.0//EN
CALSCALE:GREGORIAN
METHOD:PUBLISH
X-WR-CALNAME:IBLP Australia
X-ORIGINAL-URL:https://iblp.org.au
X-WR-CALDESC:Events for IBLP Australia
REFRESH-INTERVAL;VALUE=DURATION:PT1H
X-Robots-Tag:noindex
X-PUBLISHED-TTL:PT1H
BEGIN:VTIMEZONE
TZID:UTC
BEGIN:STANDARD
TZOFFSETFROM:+0000
TZOFFSETTO:+0000
TZNAME:UTC
DTSTART:20190101T000000
END:STANDARD
END:VTIMEZONE
BEGIN:VEVENT
DTSTART;TZID=UTC:20200112T190000
DTEND;TZID=UTC:20200115T190000
DTSTAMP:20260425T003141
CREATED:20191002T164903Z
LAST-MODIFIED:20191107T124525Z
UID:1079-1578855600-1579114800@iblp.org.au
SUMMARY:Annual Family Conference
DESCRIPTION:We are excited about what the Lord has in store for us in the coming Annual Family Conference.  Each year conference is a refreshing time for the whole family to grow and be encouraged together. \nThis year we have Dr and Mrs Fredrickson and two of their daughters coming out to share with us.  Here is some information about them:  Dwight and Laura Fredrickson are presently on staff at the Institute in Basic Life Principles and have served in a variety of roles in the IBLP ministry over the years (Laura since 1975 and Dwight since 1984). They married while serving on staff and the Lord has blessed them with six children and nine grandchildren. Two of their daughters\, Sophia and Heidi\, will be travelling with them to participate in the upcoming Family Conferences in Australia and New Zealand in January. They all look forward to meeting and encouraging parents and young people in walking with the Lord. \nOn Sunday night and one session Monday morning we are blessed to have been able to be have Dr Mark Harwood from Creation Ministries coming to speak. With over 30 years experience as an engineer and scientist in the Australian telecommunications industry\, Mark played a key role in the development of Australia’s national satellite system from its inception in 1980. Mark is an excellent and engaging communicator\, who can clear away the confusion that many have on the issue of origins and how it affects our views of the world today. Find more information about Mark HERE. \nGabriel and Sara Cleator will be joining us again this year. We are so grateful that they will be here to share with us once again and also to run Student Conference following Family Conference. \nNeil Smith will also be giving us some live sessions. He is a pastor from Brisbane who homeschooled all his children. He is a very good speaker and communicator with people\, and especially engaging when speaking with young people.\n\nAdd to all this the fellowship and encouragement giving by meeting together with like minded people\, makes Annual Family Conference 2020 an experience not to be missed. Register by November 30th to avoid a late registration fee.\n\nFor more information check out the Annual Conference brochure.\nWe look forward to seeing you there!\nRegister Here
URL:https://iblp.org.au/event/annual-family-conference/
LOCATION:Kilsyth South Baptist Church\, 382-388 Liverpool Rd\,\, Kilsyth South\, Victoria\, 3137\, Australia
ATTACH;FMTTYPE=image/jpeg:https://iblp.org.au/wp-content/uploads/2019/10/Seek-Ye-the-Lord_Square2-e1572237976709.jpg
END:VEVENT
END:VCALENDAR