BEGIN:VCALENDAR
VERSION:2.0
PRODID:-//IBLP Australia - ECPv5.0.1//NONSGML v1.0//EN
CALSCALE:GREGORIAN
METHOD:PUBLISH
X-WR-CALNAME:IBLP Australia
X-ORIGINAL-URL:https://iblp.org.au
X-WR-CALDESC:Events for IBLP Australia
BEGIN:VTIMEZONE
TZID:UTC
BEGIN:STANDARD
TZOFFSETFROM:+0000
TZOFFSETTO:+0000
TZNAME:UTC
DTSTART:20200101T000000
END:STANDARD
END:VTIMEZONE
BEGIN:VEVENT
DTSTART;TZID=UTC:20200605T190000
DTEND;TZID=UTC:20200608T173000
DTSTAMP:20200228T050911
CREATED:20191107T234007Z
LAST-MODIFIED:20191107T234133Z
UID:1136-1591383600-1591637400@iblp.org.au
SUMMARY:2020 Queen's Birthday Long Weekend Seminar
DESCRIPTION:Over 2.7 million people around the world have been blessed by the biblical principles shared in the Basic\, Advanced\, and Anger Resolution Seminars. The insights presented in these seminars reveal root causes to surface issues that plague our churches\, culture\, and families today. \nOn 7th to the 10th of June\, come to Haig Roads beautiful setting in Mount Evelyn\, VIC and understand how these basic principles and their applications in everyday life help lay the foundations for overcoming deep-seated hurts\, breaking financial bondage\, resolving relational conflicts\, and gaining wisdom in all of life’s experiences. Catered meals are available\, making this an ideal weekend retreat for the entire family. \n\nSeminars Available include\n\nBasic\nAdvanced\nFinancial Freedom\nChildren’s Institute\n\n\n\n\nPricing \nFirst Time attendee\nBasic\, Advanced\, or Financial Freedom $80 inc. Textbook & Workbook (Only $60 if registered before 21 May)\nChildren’s Institute $50 \nFirst Time additional family member\nBasic\, Advanced\, or Financial Freedom $50 inc. Workbook (Only $40 if registered before 21 May)\n\n \n\nSchedule \nBasic\, Advanced\, Financial Freedom and the Children’s Institute run all weekend \n\n \n\nMost seminars are available in English\, Mandarin\, & Cantonese\nMeal bookings close 3rd of June \nFree Entry for seminar alumni if registration submitted by 3rd of June \nRegister Here\nMeals Here\nFor more information about our seminars and the topics covered\, please click on the Seminars tab above. \n
URL:https://iblp.org.au/event/2020-queens-birthday-long-weekend-seminar/
LOCATION:4 Haig Rd Mount Everlyn\, 4 Haig Rd\, Mount Everlyn\, Victoria\, 3796\, Australia
ATTACH;FMTTYPE=image/jpeg:https://iblp.org.au/wp-content/uploads/2016/06/Banner-Crop-AU.jpg
END:VEVENT
END:VCALENDAR